Workbook

Sheet Settings
A1: Settings
A3: Company Details
A5: Company Name | B5: My Company name | E5: Enable
A6: Company Slogan (Optional) | B6: My company slogan | E6: Enable
A8: Company Address
A10: Building/House Number | B10: 111
A11: Street | B11: Street
A12: Town/City | B12: Town/City
A13: County/Province | B13: County | D13: (Optional)
A14: State/Province | B14: ST | D14: (Optional)
A15: ZIP/Postal Code | B15: 00000
A17: Tel. | B17: 0-000-000-0000
A18: Fax | B18: 0-000-000-0000
A19: E-mail | B19: info@yourcompanysite.com
A20: Website | B20: www.yourcompanysite.com
A22: Person/Department to contact | B22: John Doe
A23: Contact Tel. Number | B23: 0-000-000-0000
A25: Country Specific Settings
A27: Currency Symbol | B27: $
A29: Color Scheme
A31: Design Picker | B31: Blue

Sheet Service Invoice
A1: =IF(Settings!$E$5="Enable",Settings!$B$5,"") -> My Company name | K1: Statement
A2: =IF(Settings!$E$6="Enable",Settings!$B$6,"") -> My company slogan | N2: =Settings!$B$31 -> Blue
H4: Date: | K4: =TODAY() -> 45709
H5: Statement # | K5: [100]
H6: Customer ID: | K6: [ABC12345]
H7: Page 1 of | K7: 1
A9: Bill To: | H9: Account Summary
A10: [Name] | H10: Previous Balance | L10: =IF(ISBLANK($M10),"",Settings!$B$27) -> $ | M10: =IF(ISBLANK(M17),0,M17) -> 3000
A11: [Company Name] | H11: Credits | L11: =IF(ISBLANK($M11),"",Settings!$B$27) -> $ | M11: =IF(ISBLANK(K17:K37),0,SUM(K17:K37)) -> 1250
A12: [Street Address] | H12: New Charges | L12: =IF(ISBLANK($M12),"",Settings!$B$27) -> $ | M12: =IF(ISBLANK(I17:I37),"",SUM(I17:I37)) -> 537.5
A13: [City, ST ZIP Code] | H13: Total Balance Due | L13: =IF(ISBLANK($M13),"",Settings!$B$27) -> $ | M13: =M39 -> 2287.5
A14: [Phone] | H14: Payment Due Date | L14: 40051
A16: Date | B16: Invoice # | C16: Description | H16: Charges | J16: Credits | L16: Line Total
A17: 39984 | C17: Previous Balance (Forwarded) | H17: =IF(ISBLANK($I17),"",Settings!$B$27) | J17: =IF(ISBLANK($K17),"",Settings!$B$27) | L17: =IF(AND(ISBLANK($I17),ISBLANK($K17),ISBLANK($M17)),"",Settings!$B$27) -> $ | M17: 3000
A18: 39994 | B18: INV556611 | C18: New Charges for INV556611 | H18: =IF(ISBLANK($I18),"",Settings!$B$27) -> $ | I18: 500 | J18: =IF(ISBLANK($K18),"",Settings!$B$27) | L18: =IF(AND(ISBLANK($I18),ISBLANK($K18)),"",Settings!$B$27) -> $ | M18: =IF(AND(ISBLANK(I18),ISBLANK(K18)),"",OFFSET(M18,-1,0,1,1)-K18+I18) -> 3500 | P18: WAYS OF SENDING AN INVOICE TO A CLIENT
A19: 39994 | C19: INV556600 Payment overdue charge (5%) | H19: =IF(ISBLANK($I19),"",Settings!$B$27) -> $ | I19: =750*5% -> 37.5 | J19: =IF(ISBLANK($K19),"",Settings!$B$27) | L19: =IF(AND(ISBLANK($I19),ISBLANK($K19)),"",Settings!$B$27) -> $ | M19: =IF(AND(ISBLANK(I19),ISBLANK(K19)),"",OFFSET(M19,-1,0,1,1)-K19+I19) -> 3537.5 | P19: Do not send an Excel Invoice file to your clients, use PDF converter/printer to create a PDF file, that can be sent to clients via email, alternative method is to print it and send by mail service.
A20: 39997 | B20: INV556611 | C20: Payment Received | H20: =IF(ISBLANK($I20),"",Settings!$B$27) | J20: =IF(ISBLANK($K20),"",Settings!$B$27) -> $ | K20: 1250 | L20: =IF(AND(ISBLANK($I20),ISBLANK($K20)),"",Settings!$B$27) -> $ | M20: =IF(AND(ISBLANK(I20),ISBLANK(K20)),"",OFFSET(M20,-1,0,1,1)-K20+I20) -> 2287.5
H21: =IF(ISBLANK($I21),"",Settings!$B$27) | J21: =IF(ISBLANK($K21),"",Settings!$B$27) | L21: =IF(AND(ISBLANK($I21),ISBLANK($K21)),"",Settings!$B$27) | M21: =IF(AND(ISBLANK(I21),ISBLANK(K21)),"",OFFSET(M21,-1,0,1,1)-K21+I21)
H22: =IF(ISBLANK($I22),"",Settings!$B$27) | J22: =IF(ISBLANK($K22),"",Settings!$B$27) | L22: =IF(AND(ISBLANK($I22),ISBLANK($K22)),"",Settings!$B$27) | M22: =IF(AND(ISBLANK(I22),ISBLANK(K22)),"",OFFSET(M22,-1,0,1,1)-K22+I22)
H23: =IF(ISBLANK($I23),"",Settings!$B$27) | J23: =IF(ISBLANK($K23),"",Settings!$B$27) | L23: =IF(AND(ISBLANK($I23),ISBLANK($K23)),"",Settings!$B$27) | M23: =IF(AND(ISBLANK(I23),ISBLANK(K23)),"",OFFSET(M23,-1,0,1,1)-K23+I23)
H24: =IF(ISBLANK($I24),"",Settings!$B$27) | J24: =IF(ISBLANK($K24),"",Settings!$B$27) | L24: =IF(AND(ISBLANK($I24),ISBLANK($K24)),"",Settings!$B$27) | M24: =IF(AND(ISBLANK(I24),ISBLANK(K24)),"",OFFSET(M24,-1,0,1,1)-K24+I24)
H25: =IF(ISBLANK($I25),"",Settings!$B$27) | J25: =IF(ISBLANK($K25),"",Settings!$B$27) | L25: =IF(AND(ISBLANK($I25),ISBLANK($K25)),"",Settings!$B$27) | M25: =IF(AND(ISBLANK(I25),ISBLANK(K25)),"",OFFSET(M25,-1,0,1,1)-K25+I25)
H26: =IF(ISBLANK($I26),"",Settings!$B$27) | J26: =IF(ISBLANK($K26),"",Settings!$B$27) | L26: =IF(AND(ISBLANK($I26),ISBLANK($K26)),"",Settings!$B$27) | M26: =IF(AND(ISBLANK(I26),ISBLANK(K26)),"",OFFSET(M26,-1,0,1,1)-K26+I26)
H27: =IF(ISBLANK($I27),"",Settings!$B$27) | J27: =IF(ISBLANK($K27),"",Settings!$B$27) | L27: =IF(AND(ISBLANK($I27),ISBLANK($K27)),"",Settings!$B$27) | M27: =IF(AND(ISBLANK(I27),ISBLANK(K27)),"",OFFSET(M27,-1,0,1,1)-K27+I27)
H28: =IF(ISBLANK($I28),"",Settings!$B$27) | J28: =IF(ISBLANK($K28),"",Settings!$B$27) | L28: =IF(AND(ISBLANK($I28),ISBLANK($K28)),"",Settings!$B$27) | M28: =IF(AND(ISBLANK(I28),ISBLANK(K28)),"",OFFSET(M28,-1,0,1,1)-K28+I28)
H29: =IF(ISBLANK($I29),"",Settings!$B$27) | J29: =IF(ISBLANK($K29),"",Settings!$B$27) | L29: =IF(AND(ISBLANK($I29),ISBLANK($K29)),"",Settings!$B$27) | M29: =IF(AND(ISBLANK(I29),ISBLANK(K29)),"",OFFSET(M29,-1,0,1,1)-K29+I29)
H30: =IF(ISBLANK($I30),"",Settings!$B$27) | J30: =IF(ISBLANK($K30),"",Settings!$B$27) | L30: =IF(AND(ISBLANK($I30),ISBLANK($K30)),"",Settings!$B$27) | M30: =IF(AND(ISBLANK(I30),ISBLANK(K30)),"",OFFSET(M30,-1,0,1,1)-K30+I30)
H31: =IF(ISBLANK($I31),"",Settings!$B$27) | J31: =IF(ISBLANK($K31),"",Settings!$B$27) | L31: =IF(AND(ISBLANK($I31),ISBLANK($K31)),"",Settings!$B$27) | M31: =IF(AND(ISBLANK(I31),ISBLANK(K31)),"",OFFSET(M31,-1,0,1,1)-K31+I31)
H32: =IF(ISBLANK($I32),"",Settings!$B$27) | J32: =IF(ISBLANK($K32),"",Settings!$B$27) | L32: =IF(AND(ISBLANK($I32),ISBLANK($K32)),"",Settings!$B$27) | M32: =IF(AND(ISBLANK(I32),ISBLANK(K32)),"",OFFSET(M32,-1,0,1,1)-K32+I32)
... H37: =IF(ISBLANK($I37),"",Settings!$B$27) | J37: =IF(ISBLANK($K37),"",Settings!$B$27) | L37: =IF(AND(ISBLANK($I37),ISBLANK($K37)),"",Settings!$B$27) | M37: =IF(AND(ISBLANK(I37),ISBLANK(K37)),"",OFFSET(M37,-1,0,1,1)-K37+I37)
K39: Account Current Balance | L39: =IF(ISBLANK($M39),"",Settings!$B$27) -> $ | M39: =M17+SUM(I17:I37)-SUM(K17:K37) -> 2287.5 | O39: ← | P39: Check this formula after adding or deleting rows
A41: =IF(M13<0,"Your account is in credit of "&+(-M13)&" you do not have to make any payments.","Your account balance is "&+M13&" Please make your payment to cover the balance by the due date." ) -> Your account balance is 2287.5 Please make your payment to cover the balance by the due date.
A43: ="Make all checks payable to "&Settings!$B$5 -> Make all checks payable to My Company name
A45: Thank you for your business!
A47: ="Should you have any enquiries concerning this statement, please contact "&Settings!$B$22&" on "&Settings!$B$23 -> Should you have any enquiries concerning this statement, please contact John Doe on 0-000-000-0000
A48: =Settings!$B$10&" "&Settings!$B$11&", "&Settings!$B$12&IF(ISBLANK(Settings!$B$13),", ",", "&Settings!$B$13&", ")&IF(ISBLANK(Settings!$B$14),"",""&Settings!$B$14&", ")&Settings!$B$15 -> 111 Street, Town/City, County, ST, 00000
A49: ="Tel: "&Settings!$B$17&" Fax: "&Settings!$B$18&IF(ISBLANK(Settings!$B$19)," "," E-mail: "&Settings!$B$19)&IF(ISBLANK(Settings!$B$20)," "," Web: "&Settings!$B$20) -> Tel: 0-000-000-0000 Fax: 0-000-000-0000 E-mail: info@yourcompanysite.com Web: www.yourcompanysite.com
