Workbook

Sheet VISÃO GERAL
A1: Clique em "Arquivo > Fazer uma cópia" para liberar a edição. Clique nas abas para mudar de visualização
C3: TARGET
A4: A | B4: =COUNTIF('CALENDÁRIO DE CONTEÚDO'!$B$3:$AW$26,A4) -> 12 | C4: NÃO SABE O QUE É O PRODUTO/SERVIÇO | Q4: <------ | R4: Defina seu público-alvo e os estágios de compra.
A5: B | B5: =COUNTIF('CALENDÁRIO DE CONTEÚDO'!$B$3:$AW$26,A5) -> 13 | D5: QUER ENTENDER E QUER SABER PQ DEVE USAR
A6: C | B6: =COUNTIF('CALENDÁRIO DE CONTEÚDO'!$B$3:$AW$26,A6) -> 13 | F6: BUSCANDO OPÇÕES
A7: D | B7: =COUNTIF('CALENDÁRIO DE CONTEÚDO'!$B$3:$AW$26,A7) -> 18 | G7: DISPOSTO A OUVIR
A8: E | B8: =COUNTIF('CALENDÁRIO DE CONTEÚDO'!$B$3:$AW$26,A8) -> 6 | H8: QUER COMPRAR
A9: F | B9: =COUNTIF('CALENDÁRIO DE CONTEÚDO'!$B$3:$AW$26,A9) -> 0 | G9: CLIENTE
A10: G | B10: =COUNTIF('CALENDÁRIO DE CONTEÚDO'!$B$3:$AW$26,A10) -> 0 | F10: UP/CROSS-SELL/REFERRALS
A11: H | B11: =COUNTIF('CALENDÁRIO DE CONTEÚDO'!$B$3:$AW$26,A11) -> 0 | G11: GERAL
C17: META
D18: xxx ACESSOS | Q18: <------ | R18: Defina suas metas.
E19: xxx LEADS
F20: xxx OPORTUNIDADES
G21: xxx CLIENTES

Sheet CALENDÁRIO DE CONTEÚDO
B1: JAN | F1: FEV | J1: MAR | N1: ABR | R1: MAI | V1: JUN | Z1: JUL | AD1: AGO | AH1: SET | AL1: OUT | AP1: NOV | AT1: DEZ | AX1: =SUM(AX3:AX16) -> 62
B2: Aqui você irá preencher seu calendário. Defina a quantidade por semana e defina os targets. Você pode inserir ou deletar formatos de conteúdo.
A3: POST | J3: 1 | K3: 1 | L3: 1 | M3: 1 | N3: 1 | O3: 1 | P3: 1 | Q3: 1 | R3: 1 | S3: 1 | T3: 1 | U3: 1 | V3: 1 | W3: 1 | X3: 1 | Y3: 1 | Z3: 1 | AA3: 1 | AB3: 1 | AC3: 1 | AD3: 1 | AE3: 1 | AF3: 1 | AG3: 1 | AH3: 1 | AI3: 1 | AJ3: 1 | AK3: 1 | AL3: 1 | AM3: 1 | AN3: 1 | AO3: 1 | AP3: 1 | AQ3: 1 | AR3: 1 | AS3: 1 | AT3: 1 | AU3: 1 | AV3: 1 | AW3: 1 | AX3: =SUM(B3:AW3) -> 40
A4: ► TARGET | J4: A | K4: B | L4: C | M4: D | N4: A | O4: B | P4: C | Q4: D | R4: A | S4: B | T4: C | U4: D | V4: A | W4: B | X4: C | Y4: D | Z4: A | AA4: B | AB4: C | AC4: D | AD4: A | AE4: B | AF4: C | AG4: D | AH4: A | AI4: B | AJ4: C | AK4: D | AL4: A | AM4: B | AN4: C | AO4: D | AP4: A | AQ4: B | AR4: C | AS4: D | AT4: A | AU4: B | AV4: C | AW4: D
A5: EBOOK | J5: 1 | N5: 1 | R5: 1 | V5: 1 | Z5: 1 | AD5: 1 | AH5: 1 | AL5: 1 | AP5: 1 | AX5: =SUM(B5:AW5) -> 9
A6: ► TARGET | J6: D | N6: C | R6: B | V6: A | Z6: D | AD6: C | AH6: B | AL6: A | AP6: E
A7: VIDEOS | O7: 1 | W7: 1 | AE7: 1 | AM7: 1 | AX7: =SUM(B7:AW7) -> 4
A8: ► TARGET | O8: B | W8: C | AE8: D | AM8: E
A9: INFOGRÁTICO | L9: 1 | P9: 1 | T9: 1 | X9: 1 | AB9: 1 | AF9: 1 | AJ9: 1 | AN9: 1 | AR9: 1 | AX9: =SUM(B9:AW9) -> 9
A10: ► TARGET | L10: D | P10: E | T10: D | X10: E | AB10: D | AF10: E | AJ10: D | AN10: E | AR10: D
A11: KITS | AX11: =SUM(B11:AW11) -> 0
A12: ► TARGET
A13: PLANILHAS | AX13: =SUM(B13:AW13) -> 0
A14: ► TARGET
A15: WEBINAR | AX15: =SUM(B15:AW15) -> 0
A16: ► TARGET
A17: SOCIAL NETWORK | B17: =SUM(B18:B25) -> 0 | C17: =SUM(C18:C25) -> 0 | D17: =SUM(D18:D25) -> 0 | E17: =SUM(E18:E25) -> 0 | F17: =SUM(F18:F25) -> 0 | G17: =SUM(G18:G25) -> 0 | H17: =SUM(H18:H25) -> 0 | I17: =SUM(I18:I25) -> 0 | ... AW17: =SUM(AW18:AW25) -> 10 | AX17: =SUM(B17:AW17) -> 420
A18: ╚ FACEBOOK | J18: 5 | K18: 5 | L18: 5 | M18: 5 | N18: 5 | O18: 5 | P18: 5 | Q18: 5 | R18: 5 | S18: 5 | T18: 5 | U18: 5 | V18: 5 | W18: 5 | X18: 5 | Y18: 5 | Z18: 5 | AA18: 5 | AB18: 5 | AC18: 5 | AD18: 5 | AE18: 5 | AF18: 5 | AG18: 5 | AH18: 5 | AI18: 5 | AJ18: 5 | AK18: 5 | AL18: 5 | AM18: 5 | AN18: 5 | AO18: 5 | AP18: 5 | AQ18: 5 | AR18: 5 | AS18: 5 | AT18: 5 | AU18: 5 | AV18: 5 | AW18: 5
A19: ╚ G+ PAGE | J19: 5 | K19: 5 | L19: 5 | M19: 5 | N19: 5 | O19: 5 | P19: 5 | Q19: 5 | R19: 5 | S19: 5 | T19: 5 | U19: 5 | V19: 5 | W19: 5 | X19: 5 | Y19: 5 | Z19: 5 | AA19: 5 | AB19: 5 | AC19: 5 | AD19: 5 | AE19: 5 | AF19: 5 | AG19: 5 | AH19: 5 | AI19: 5 | AJ19: 5 | AK19: 5 | AL19: 5 | AM19: 5 | AN19: 5 | AO19: 5 | AP19: 5 | AQ19: 5 | AR19: 5 | AS19: 5 | AT19: 5 | AU19: 5 | AV19: 5 | AW19: 5
A20: ╚ TWITTER | J20: - | K20: - | L20: - | M20: - | N20: - | O20: - | P20: - | Q20: - | R20: - | S20: - | T20: - | U20: - | V20: - | W20: - | X20: - | Y20: - | Z20: - | AA20: - | AB20: - | AC20: - | AD20: - | AE20: - | AF20: - | AG20: - | AH20: - | AI20: - | AJ20: - | AK20: - | AL20: - | AM20: - | AN20: - | AO20: - | AP20: - | AQ20: - | AR20: - | AS20: - | AT20: - | AU20: - | AV20: - | AW20: -
A21: ╚ LINKEDIN GROUP
A22: ╚ G+ GROUP
A23: ╚ SLIDESHARE | L23: 1 | X23: 1 | AJ23: 1
A24: ╚ YOUTUBE | K24: 1 | O24: 1 | S24: 1 | W24: 1 | AA24: 1 | AE24: 1 | AI24: 1 | AM24: 1 | AQ24: 1
A25: ╚ SOUNDCLOUD | M25: 1 | Q25: 1 | U25: 1 | Y25: 1 | AC25: 1 | AG25: 1 | AK25: 1 | AP25: 1
AX26: =SUM(B26:AW26) -> 0
