Workbook

Sheet Setup
B4: BCD Enterprise
B6: Address | D6: 6629 D Motts Boulevard, Rapid City, SD 88202
B7: Email Address: | D7: bcdenterprise@email.com
B8: Contact Number: | D8: 555-222-7777
B10: Bank Name: | D10: Orient Swiss Bank
B11: Account Number: | D11: 739284929372
B12: Statement Date as of: | D12: 44839
B13: Account Balance: | D13: 480000

Sheet Reconciliation Tab
G2: BCD Enterprise
E3: ="Address: "&Setup!D6 -> Address: 6629 D Motts Boulevard, Rapid City, SD 88202
F4: ="Email: "&Setup!D7&" "&"Phone: "&Setup!D8 -> Email: bcdenterprise@email.com Phone: 555-222-7777
B6: Reconciliation Statement
B8: BANK NAME: | C8: =Setup!D10 -> Orient Swiss Bank | E8: STATEMENT DATE (AS OF): | G8: =Setup!D12 -> 44839
B9: ACCOUNT NUMBER: | C9: =Setup!D11 -> 739284929372 | E9: ACCOUNT BALANCE: | G9: =Setup!D13 -> 480000
E11: ADJUSTED BALANCE: | G11: =(G9+SUM(D15:D33))-(SUM(E15:E33)+SUM(F15:F33)) -> 579180
E12: ACCOUNT BALANCE: | G12: 530000
B14: DATE | C14: DESCRIPTION | D14: DEPOSITS IN TRANSIT | E14: OUTSTANDING CHECKS | F14: OTHER | G14: BALANCE
B15: 54827 | C15: Deposit Transfer from BPT Co. - Ref #9012 | D15: 30000 | G15: {=IFERROR(_xlfn.IFS( AND(D15<>"",E15="",F15=""),$G$9+D15, AND(D15="",E15<>"",F15=""),$G$9-E15, AND(D15="",E15="",F15<>""),$G$9-F15, AND(D15<>"",E15<>"",F15=""),SUM($G$9,D15)-E15, AND(D15<>"",E15<>"",F15<>""),SUM($G$9,D15)-SUM(E15,F15), AND(D15<>"",E15="",F15<>""),SUM($G$9,D15)-F15, AND(D15="", E15<>"",F15<>""),$G$9-SUM(E15,F15) ),"")} -> 510000
B16: 54828 | C16: Check Payment for FPE Co. - Check No. 3402 | E16: 20000 | G16: {=IFERROR( IF(G15<>"", _xlfn.IFS( AND(D16<>"",E16="",F16=""),G15+D16, AND(D16="",E16<>"",F16=""),G15-E16, AND(D16="",E16="",F16<>""),G15-F16, AND(D16<>"",E16<>"",F16=""),SUM(G15,D16)-E16, AND(D16<>"",E16<>"",F16<>""),SUM(G15,D16)-SUM(E16,F16), AND(D16<>"",E16="",F16<>""),SUM(G15,D16)-F16, AND(D16="", E16<>"",F16<>""),G15-SUM(E16,F16) ), _xlfn.IFS( AND(D16<>"",E16="",F16=""),$G$9+D16, AND(D16="",E16<>"",F16=""),$G$9-E16, AND(D16="",E16="",F16<>""),$G$9-F16, AND(D16<>"",E16<>"",F16=""),SUM($G$9,D16)-E16, AND(D16<>"",E16<>"",F16<>""),SUM($G$9,D16)-SUM(E16,F16), AND(D16<>"",E16="",F16<>""),SUM($G$9,D16)-F16, AND(D16="", E16<>"",F16<>""),$G$9-SUM(E16,F16) ) ),"")} -> 490000
B17: 54829 | C17: Check Payment for DLP Corp - Check No. 3922 | E17: 345 | F17: 345 | G17: {=IFERROR( IF(G16<>"", _xlfn.IFS( AND(D17<>"",E17="",F17=""),G16+D17, AND(D17="",E17<>"",F17=""),G16-E17, AND(D17="",E17="",F17<>""),G16-F17, AND(D17<>"",E17<>"",F17=""),SUM(G16,D17)-E17, AND(D17<>"",E17<>"",F17<>""),SUM(G16,D17)-SUM(E17,F17), AND(D17<>"",E17="",F17<>""),SUM(G16,D17)-F17, AND(D17="", E17<>"",F17<>""),G16-SUM(E17,F17) ), IF( G15<>"", _xlfn.IFS( AND(D17<>"",E17="",F17=""),G15+D17, AND(D17="",E17<>"",F17=""),G15-E17, AND(D17="",E17="",F17<>""),G15-F17, AND(D17<>"",E17<>"",F17=""),SUM(G15,D17)-E17, AND(D17<>"",E17<>"",F17<>""),SUM(G15,D17)-SUM(E17,F17), AND(D17<>"",E17="",F17<>""),SUM(G15,D17)-F17, AND(D17="", E17<>"",F17<>""),G15-SUM(E17,F17) ),_xlfn.IFS( AND(D17<>"",E17="",F17=""),$G$9+D17, AND(D17="",E17<>"",F17=""),$G$9-E17, AND(D17="",E17="",F17<>""),$G$9-F17, AND(D17<>"",E17<>"",F17=""),SUM($G$9,D17)-E17, AND(D17<>"",E17<>"",F17<>""),SUM($G$9,D17)-SUM(E17,F17), AND(D17<>"",E17="",F17<>""),SUM($G$9,D17)-F17, AND(D17="", E17<>"",F17<>""),$G$9-SUM(E17,F17) ) ) ),"")} -> 489310
B18: 54821 | C18: Deposit Check from IRS Inc. - Ref #6403 | D18: 90000 | G18: {=IFERROR( IF(G17<>"", _xlfn.IFS( AND(D18<>"",E18="",F18=""),G17+D18, AND(D18="",E18<>"",F18=""),G17-E18, AND(D18="",E18="",F18<>""),G17-F18, AND(D18<>"",E18<>"",F18=""),SUM(G17,D18)-E18, AND(D18<>"",E18<>"",F18<>""),SUM(G17,D18)-SUM(E18,F18), AND(D18<>"",E18="",F18<>""),SUM(G17,D18)-F18, AND(D18="", E18<>"",F18<>""),G17-SUM(E18,F18) ), IF( G16<>"", _xlfn.IFS( AND(D18<>"",E18="",F18=""),G16+D18, AND(D18="",E18<>"",F18=""),G16-E18, AND(D18="",E18="",F18<>""),G16-F18, AND(D18<>"",E18<>"",F18=""),SUM(G16,D18)-E18, AND(D18<>"",E18<>"",F18<>""),SUM(G16,D18)-SUM(E18,F18), AND(D18<>"",E18="",F18<>""),SUM(G16,D18)-F18, AND(D18="", E18<>"",F18<>""),G16-SUM(E18,F18) ), IF(G15<>"", _xlfn.IFS( AND(D18<>"",E18="",F18=""),G15+D18, AND(D18="",E18<>"",F18=""),G15-E18, AND(D18="",E18="",F18<>""),G15-F18, AND(D18<>"",E18<>"",F18=""),SUM(G15,D18)-E18, AND(D18<>"",E18<>"",F18<>""),SUM(G15,D18)-SUM(E18,F18), AND(D18<>"",E18="",F18<>""),SUM(G15,D18)-F18, AND(D18="", E18<>"",F18<>""),G15-SUM(E18,F18) ),_xlfn.IFS( AND(D18<>"",E18="",F18=""),$G$9+D18, AND(D18="",E18<>"",F18=""),$G$9-E18, AND(D18="",E18="",F18<>""),$G$9-F18, AND(D18<>"",E18<>"",F18=""),SUM($G$9,D18)-E18, AND(D18<>"",E18<>"",F18<>""),SUM($G$9,D18)-SUM(E18,F18), AND(D18<>"",E18="",F18<>""),SUM($G$9,D18)-F18, AND(D18="", E18<>"",F18<>""),$G$9-SUM(E18,F18) ) ) ) ),"")} -> 579310
B19: 54843 | C19: Bank service fees | F19: 130 | G19: {=IFERROR( IF(G18<>"", _xlfn.IFS( AND(D19<>"",E19="",F19=""),G18+D19, AND(D19="",E19<>"",F19=""),G18-E19, AND(D19="",E19="",F19<>""),G18-F19, AND(D19<>"",E19<>"",F19=""),SUM(G18,D19)-E19, AND(D19<>"",E19<>"",F19<>""),SUM(G18,D19)-SUM(E19,F19), AND(D19<>"",E19="",F19<>""),SUM(G18,D19)-F19, AND(D19="", E19<>"",F19<>""),G18-SUM(E19,F19) ), IF( G17<>"", _xlfn.IFS( AND(D19<>"",E19="",F19=""),G17+D19, AND(D19="",E19<>"",F19=""),G17-E19, AND(D19="",E19="",F19<>""),G17-F19, AND(D19<>"",E19<>"",F19=""),SUM(G17,D19)-E19, AND(D19<>"",E19<>"",F19<>""),SUM(G17,D19)-SUM(E19,F19), AND(D19<>"",E19="",F19<>""),SUM(G17,D19)-F19, AND(D19="", E19<>"",F19<>""),G17-SUM(E19,F19) ), IF(G16<>"", _xlfn.IFS( AND(D19<>"",E19="",F19=""),G16+D19, AND(D19="",E19<>"",F19=""),G16-E19, AND(D19="",E19="",F19<>""),G16-F19, AND(D19<>"",E19<>"",F19=""),SUM(G16,D19)-E19, AND(D19<>"",E19<>"",F19<>""),SUM(G16,D19)-SUM(E19,F19), AND(D19<>"",E19="",F19<>""),SUM(G16,D19)-F19, AND(D19="", E19<>"",F19<>""),G16-SUM(E19,F19) ), IF(G15<>"", _xlfn.IFS( AND(D19<>"",E19="",F19=""),G15+D19, AND(D19="",E19<>"",F19=""),G15-E19, AND(D19="",E19="",F19<>""),G15-F19, AND(D19<>"",E19<>"",F19=""),SUM(G15,D19)-E19, AND(D19<>"",E19<>"",F19<>""),SUM(G15,D19)-SUM(E19,F19), AND(D19<>"",E19="",F19<>""),SUM(G15,D19)-F19, AND(D19="", E19<>"",F19<>""),G15-SUM(E19,F19) ),_xlfn.IFS( AND(D19<>"",E19="",F19=""),$G$9+D19, AND(D19="",E19<>"",F19=""),$G$9-E19, AND(D19="",E19="",F19<>""),$G$9-F19, AND(D19<>"",E19<>"",F19=""),SUM($G$9,D19)-E19, AND(D19<>"",E19<>"",F19<>""),SUM($G$9,D19)-SUM(E19,F19), AND(D19<>"",E19="",F19<>""),SUM($G$9,D19)-F19, AND(D19="", E19<>"",F19<>""),$G$9-SUM(E19,F19) ) ) ) ) ),"")} -> 579180
G20: =IF(AND(D20="",E20="",F20=""),"",IF(D20="",G19-SUM(E20:F20),IF(AND(D20>0,E20>0,F20>0),(G19+D20)-SUM(E20:F20),G19+D20)))
G21: =IF(AND(D21="",E21="",F21=""),"",IF(D21="",G20-SUM(E21:F21),IF(AND(D21>0,E21>0,F21>0),(G20+D21)-SUM(E21:F21),G20+D21)))
G22: =IF(AND(D22="",E22="",F22=""),"",IF(D22="",G21-SUM(E22:F22),IF(AND(D22>0,E22>0,F22>0),(G21+D22)-SUM(E22:F22),G21+D22)))
G23: =IF(AND(D23="",E23="",F23=""),"",IF(D23="",G22-SUM(E23:F23),IF(AND(D23>0,E23>0,F23>0),(G22+D23)-SUM(E23:F23),G22+D23)))
G24: =IF(AND(D24="",E24="",F24=""),"",IF(D24="",G23-SUM(E24:F24),IF(AND(D24>0,E24>0,F24>0),(G23+D24)-SUM(E24:F24),G23+D24)))
G25: =IF(AND(D25="",E25="",F25=""),"",IF(D25="",G24-SUM(E25:F25),IF(AND(D25>0,E25>0,F25>0),(G24+D25)-SUM(E25:F25),G24+D25)))
G26: =IF(AND(D26="",E26="",F26=""),"",IF(D26="",G25-SUM(E26:F26),IF(AND(D26>0,E26>0,F26>0),(G25+D26)-SUM(E26:F26),G25+D26)))
G27: =IF(AND(D27="",E27="",F27=""),"",IF(D27="",G26-SUM(E27:F27),IF(AND(D27>0,E27>0,F27>0),(G26+D27)-SUM(E27:F27),G26+D27)))
G28: =IF(AND(D28="",E28="",F28=""),"",IF(D28="",G27-SUM(E28:F28),IF(AND(D28>0,E28>0,F28>0),(G27+D28)-SUM(E28:F28),G27+D28)))
G29: =IF(AND(D29="",E29="",F29=""),"",IF(D29="",G28-SUM(E29:F29),IF(AND(D29>0,E29>0,F29>0),(G28+D29)-SUM(E29:F29),G28+D29)))
G30: =IF(AND(D30="",E30="",F30=""),"",IF(D30="",G29-SUM(E30:F30),IF(AND(D30>0,E30>0,F30>0),(G29+D30)-SUM(E30:F30),G29+D30)))
G31: =IF(AND(D31="",E31="",F31=""),"",IF(D31="",G30-SUM(E31:F31),IF(AND(D31>0,E31>0,F31>0),(G30+D31)-SUM(E31:F31),G30+D31)))
... G33: =IF(AND(D33="",E33="",F33=""),"",IF(D33="",G32-SUM(E33:F33),IF(AND(D33>0,E33>0,F33>0),(G32+D33)-SUM(E33:F33),G32+D33)))
