Workbook
Name design: Settings!$B$37

Sheet Settings
A1: Settings
A3: Company Details
A5: Company Name | B5: My Company name | E5: Enable
A6: Company Slogan (Optional) | B6: My company slogan | E6: Enable
A8: Company Address
A10: Building/House Number | B10: 111
A11: Street | B11: Street
A12: Town/City | B12: Town/City
A13: County/Province | B13: County | D13: (Optional)
A14: State/Province | B14: ST | D14: (Optional)
A15: ZIP/Postal Code | B15: 00000
A17: Tel. | B17: 0-000-000-0000
A18: Fax | B18: 0-000-000-0000
A19: E-mail | B19: info@yourcompanysite.com
A20: Website | B20: www.yourcompanysite.com
A22: Person/Department to contact | B22: John Doe
A23: Contact Tel. Number | B23: 0-000-000-0000
A25: Country Specific Settings
A27: Select Relevant | B27: Sales Tax
A29: =$B$27&" on Parts" -> Sales Tax on Parts | B29: 0.065
A31: =$B$27&" on Labour" -> Sales Tax on Labour | B31: 0.095
A33: Currency Symbol | B33: $
A35: Color Scheme
A37: Design Picker | B37: Blue
A39: Template Specific Settings
A41: Select Relevant Template | B41: Computer Repair
A43: Payment Due in | B43: 30 | C43: Days

Sheet Invoice A
A2: =IF(Settings!$E$5="Enable",Settings!$B$5,"") -> My Company name | H2: INVOICE
A3: =IF(Settings!$E$6="Enable",Settings!$B$6,"") -> My company slogan
A6: DATE | B6: =TODAY() -> 45714 | E6: INVOICE # | F6: INV-00-12345
A7: DUE | B7: =B6+Settings!$B$43 -> 45744
A8: CUSTOMER INFO | D8: =IF(Settings!B41="Vehicle Repair","VEHICLE", "COMPUTER")&" INFO" -> COMPUTER INFO
A10: NAME | B10: [Name] | D10: MAKE | F10: Dell
B11: [Company Name] | D11: =IF(Settings!B41="Vehicle Repair","MODEL","MODEL #") -> MODEL # | F11: Inspiron M5030
A12: ADDRESS | B12: [Street Address] | D12: =IF(Settings!B41="Vehicle Repair","YEAR","SERIAL #") -> SERIAL # | F12: 521548744M
B13: [City, ST ZIP Code] | D13: =IF(Settings!B41="Vehicle Repair","COLOR","ADAPTOR") -> ADAPTOR | F13: Yes
B14: [Phone] | D14: =IF(Settings!B41="Vehicle Repair","VIN #","BATTERY") -> BATTERY | F14: Yes
D15: =IF(Settings!B41="Vehicle Repair","REG #","RCOVERY CD's") -> RCOVERY CD's | F15: 2
D16: =IF(Settings!B41="Vehicle Repair","MILEAGE","OTHER") -> OTHER | F16: Ext. HD (Backup)
A18: JOB PERFORMED | G18: AMOUNT
A19: Labour | G19: 220
K20: WAYS OF SENDING AN INVOICE TO A CLIENT
K21: Do not send an Excel Invoice file to your clients, use PDF converter/printer to create a PDF file, that can be sent to clients via email, alternative method is to print it and send by mail service.
E28: SUBTOTAL | G28: =IF(ISBLANK($H28),"",Settings!$B$33) -> $ | H28: =SUM(G19:H26) -> 220
E29: =UPPER(Settings!$B$27&" Rate") -> SALES TAX RATE | G29: =Settings!B31 -> 0.095
A31: PART # | B31: PART NAME | E31: QTY | F31: UNIT PRICE | G31: AMOUNT
A32: 12345 | B32: Part Name 1 | E32: 1 | F32: 34 | G32: =E32*F32 -> 34
A33: 67890 | B33: Part Name 2 | E33: 2 | F33: 17.55 | G33: =E33*F33 -> 35.1
G34: =E34*F34 -> 0
G35: =E35*F35 -> 0
G36: =E36*F36 -> 0
G37: =E37*F37 -> 0
G38: =E38*F38 -> 0
G39: =E39*F39 -> 0
E41: SUBTOTAL | G41: =IF(ISBLANK($H41),"",Settings!$B$33) -> $ | H41: =SUM(G32:H39) -> 69.1
A42: COMMENTS | E42: =UPPER(Settings!$B$27&" Rate") -> SALES TAX RATE | G42: =Settings!B29 -> 0.065
A43: Please include the invoice number as reference when paying online or by check
E44: TOTAL LABOUR | G44: =IF(ISBLANK($H44),"",Settings!$B$33) -> $ | H44: =H28 -> 220
E45: TOTAL PARTS | G45: =IF(ISBLANK($H45),"",Settings!$B$33) -> $ | H45: =H41 -> 69.1
E46: =UPPER(Settings!$B$27) -> SALES TAX | G46: =IF(ISBLANK($H46),"",Settings!$B$33) -> $ | H46: =H28*G29+H41*G42 -> 25.3915
E47: TOTAL | G47: =IF(ISBLANK($H47),"",Settings!$B$33) -> $ | H47: =H44+H45+H46 -> 314.4915
A49: Thank you for your business! | E49: Make all checks payable to
E50: =Settings!$B$5 -> My Company name
A52: ="Should you have any enquiries concerning this invoice, please contact "&Settings!$B$22&" on "&Settings!$B$23 -> Should you have any enquiries concerning this invoice, please contact John Doe on 0-000-000-0000
A53: =Settings!$B$10&" "&Settings!$B$11&", "&Settings!$B$12&IF(ISBLANK(Settings!$B$13),", ",", "&Settings!$B$13&", ")&IF(ISBLANK(Settings!$B$14),"",""&Settings!$B$14&", ")&Settings!$B$15 -> 111 Street, Town/City, County, ST, 00000
A54: ="Tel: "&Settings!$B$17&" Fax: "&Settings!$B$18&IF(ISBLANK(Settings!$B$19)," "," E-mail: "&Settings!$B$19)&IF(ISBLANK(Settings!$B$20)," "," Web: "&Settings!$B$20) -> Tel: 0-000-000-0000 Fax: 0-000-000-0000 E-mail: info@yourcompanysite.com Web: www.yourcompanysite.com

Sheet Invoice B
A2: =IF(Settings!$E$5="Enable",Settings!$B$5,"") -> My Company name | H2: INVOICE
A3: =IF(Settings!$E$6="Enable",Settings!$B$6,"") -> My company slogan
A6: DATE | B6: =TODAY() -> 45714 | E6: INVOICE # | F6: INV-00-12345
A7: DUE | B7: =B6+Settings!$B$43 -> 45744
A8: CUSTOMER INFO | D8: =IF(Settings!B41="Vehicle Repair","VEHICLE", "COMPUTER")&" INFO" -> COMPUTER INFO
A10: NAME | B10: [Name] | D10: MAKE | F10: Dell
B11: [Company Name] | D11: =IF(Settings!B41="Vehicle Repair","MODEL","MODEL #") -> MODEL # | F11: Inspiron M5030
A12: ADDRESS | B12: [Street Address] | D12: =IF(Settings!B41="Vehicle Repair","YEAR","SERIAL #") -> SERIAL # | F12: 521548744M
B13: [City, ST ZIP Code] | D13: =IF(Settings!B41="Vehicle Repair","COLOR","ADAPTOR") -> ADAPTOR | F13: Yes
B14: [Phone] | D14: =IF(Settings!B41="Vehicle Repair","VIN #","BATTERY") -> BATTERY | F14: Yes
D15: =IF(Settings!B41="Vehicle Repair","REG #","RCOVERY CD's") -> RCOVERY CD's | F15: 2
D16: =IF(Settings!B41="Vehicle Repair","MILEAGE","OTHER") -> OTHER | F16: Ext. HD (Backup)
A18: JOB PERFORMED | E18: HOURS | F18: RATE | G18: AMOUNT
A19: Screen Replacement | E19: 2 | F19: 75 | G19: =E19*F19 -> 150
A20: OS Backup/Restore | E20: 3 | F20: 25 | G20: =E20*F20 -> 75 | K20: WAYS OF SENDING AN INVOICE TO A CLIENT
G21: =E21*F21 -> 0 | K21: Do not send an Excel Invoice file to your clients, use PDF converter/printer to create a PDF file, that can be sent to clients via email, alternative method is to print it and send by mail service.
G22: =E22*F22 -> 0
G23: =E23*F23 -> 0
G24: =E24*F24 -> 0
G25: =E25*F25 -> 0
G26: =E26*F26 -> 0
E28: SUBTOTAL | G28: =IF(ISBLANK($H28),"",Settings!$B$33) -> $ | H28: =SUM(G19:H26) -> 225
E29: =UPPER(Settings!$B$27&" Rate") -> SALES TAX RATE | G29: =Settings!B31 -> 0.095
A31: PART # | B31: PART NAME | E31: QTY | F31: UNIT PRICE | G31: AMOUNT
A32: 12345 | B32: Part Name 1 | E32: 1 | F32: 34 | G32: =E32*F32 -> 34
A33: 67890 | B33: Part Name 2 | E33: 2 | F33: 17.55 | G33: =E33*F33 -> 35.1
G34: =E34*F34 -> 0
G35: =E35*F35 -> 0
G36: =E36*F36 -> 0
G37: =E37*F37 -> 0
G38: =E38*F38 -> 0
G39: =E39*F39 -> 0
E41: SUBTOTAL | G41: =IF(ISBLANK($H41),"",Settings!$B$33) -> $ | H41: =SUM(G32:H39) -> 69.1
A42: COMMENTS | E42: =UPPER(Settings!$B$27&" Rate") -> SALES TAX RATE | G42: =Settings!B29 -> 0.065
A43: Please include the invoice number as reference when paying online or by check
E44: TOTAL LABOUR | G44: =IF(ISBLANK($H44),"",Settings!$B$33) -> $ | H44: =H28 -> 225
E45: TOTAL PARTS | G45: =IF(ISBLANK($H45),"",Settings!$B$33) -> $ | H45: =H41 -> 69.1
E46: =UPPER(Settings!$B$27) -> SALES TAX | G46: =IF(ISBLANK($H46),"",Settings!$B$33) -> $ | H46: =H28*G29+H41*G42 -> 25.8665
E47: TOTAL | G47: =IF(ISBLANK($H47),"",Settings!$B$33) -> $ | H47: =H44+H45+H46 -> 319.9665
A49: Thank you for your business! | E49: Make all checks payable to
...
