Workbook
Name code: 'Products List'!$A:$A
Name product: 'Products List'!$B:$B

Sheet Settings
A1: Settings
A3: Company Details
A5: Company Name | B5: My Company name | E5: Enable
A6: Company Slogan (Optional) | B6: My company slogan | E6: Enable
A8: Company Address
A10: Building/House Number | B10: 111
A11: Street | B11: Street
A12: Town/City | B12: Town/City
A13: County/Province | B13: County | D13: (Optional)
A14: State/Province | B14: ST | D14: (Optional)
A15: ZIP/Postal Code | B15: 00000
A17: Tel. | B17: 0-000-000-0000
A18: Fax | B18: 0-000-000-0000
A19: E-mail | B19: info@yourcompanysite.com
A20: Website | B20: www.yourcompanysite.com
A22: Person/Department to contact | B22: John Doe
A23: Contact Tel. Number | B23: 0-000-000-0000
A25: Color Scheme
A27: Design Picker | B27: Blue

Sheet Delivery Note 1
A1: =IF(Settings!$E$5="Enable",Settings!$B$5,"") -> My Company name | J1: Delivery Note
A2: =IF(Settings!$E$6="Enable",Settings!$B$6,"") -> My company slogan | K2: =Settings!$B$27 -> Blue
H3: Order Date | I3: =TODAY() -> 45715
H4: Order # | I4: [123456]
H5: Delivery Note # | I5: [100]
H6: Customer ID | I6: [ABC12345]
H7: Despatch Date | I7: =TODAY() -> 45715
H8: Delivery Method | I8: [UPS]
A10: Shipping Address | G10: Invoice Address
A11: [Name] | G11: [Name]
A12: [Company Name] | G12: [Company Name]
A13: [Street Address] | G13: [Street Address]
A14: [City, ST ZIP Code] | G14: [City, ST ZIP Code]
A15: [Phone] | G15: [Phone]
A17: Item # | B17: Description | H17: Ordered | I17: Delivered | J17: Outstanding | M17: WAYS OF SENDING AN INVOICE TO A CLIENT
A18: 55145 | B18: Product 1 | H18: 12 | I18: 12 | J18: =H18-I18 -> 0 | M18: Do not send an Excel Delivery Note file to your clients, use PDF converter/printer to create a PDF file, that can be sent to clients via email, alternative method is to print it and send by mail service.
A19: 55155 | B19: Product 2 | H19: 5 | I19: 5 | J19: =H19-I19 -> 0
J20: =H20-I20 -> 0
J21: =H21-I21 -> 0
J22: =H22-I22 -> 0
J23: =H23-I23 -> 0
J24: =H24-I24 -> 0
J25: =H25-I25 -> 0
J26: =H26-I26 -> 0
J27: =H27-I27 -> 0
J28: =H28-I28 -> 0
J29: =H29-I29 -> 0
J30: =H30-I30 -> 0
J31: =H31-I31 -> 0
... J42: =H42-I42 -> 0
A45: Notice must be given to us of any goods not received within 10 days taken from the date of despatch stated on invoice.
A46: Any Shortage or damage must be notified within 72 hours of receipt of goods.
A47: Complaints can only be accepted if made in writing within 30 days of receipt of goods.
A48: No goods may be returned without prior authorisation from company
A50: Thank you for your business!
A51: ="Should you have any enquiries concerning this delivery note, please contact "&Settings!$B$22&" on "&Settings!$B$23 -> Should you have any enquiries concerning this delivery note, please contact John Doe on 0-000-000-0000
A52: =Settings!$B$10&" "&Settings!$B$11&", "&Settings!$B$12&IF(ISBLANK(Settings!$B$13),", ",", "&Settings!$B$13&", ")&IF(ISBLANK(Settings!$B$14),"",""&Settings!$B$14&", ")&Settings!$B$15 -> 111 Street, Town/City, County, ST, 00000
A53: ="Tel: "&Settings!$B$17&" Fax: "&Settings!$B$18&IF(ISBLANK(Settings!$B$19)," "," E-mail: "&Settings!$B$19)&IF(ISBLANK(Settings!$B$20)," "," Web: "&Settings!$B$20) -> Tel: 0-000-000-0000 Fax: 0-000-000-0000 E-mail: info@yourcompanysite.com Web: www.yourcompanysite.com

Sheet Delivery Note 2
A1: =IF(Settings!$E$5="Enable",Settings!$B$5,"") -> My Company name | J1: Delivery Note
A2: =IF(Settings!$E$6="Enable",Settings!$B$6,"") -> My company slogan | K2: =Settings!$B$27 -> Blue
H3: Order Date | I3: =TODAY() -> 45715
H4: Order # | I4: [123456]
H5: Delivery Note # | I5: [100]
H6: Customer ID | I6: [ABC12345]
H7: Despatch Date | I7: =TODAY() -> 45715
H8: Delivery Method | I8: [UPS]
A10: Shipping Address | G10: Invoice Address
A11: [Name] | G11: [Name]
A12: [Company Name] | G12: [Company Name]
A13: [Street Address] | G13: [Street Address]
A14: [City, ST ZIP Code] | G14: [City, ST ZIP Code]
A15: [Phone] | G15: [Phone]
A17: Item # | B17: Description | H17: Ordered | I17: Delivered | J17: Outstanding | M17: WAYS OF SENDING AN INVOICE TO A CLIENT
A18: =IF(ISBLANK(B18),"",INDEX(code,MATCH(B18,product,0))) -> 331122 | B18: Product 3 | H18: 12 | I18: 12 | J18: =H18-I18 -> 0 | M18: Do not send an Excel Delivery Note file to your clients, use PDF converter/printer to create a PDF file, that can be sent to clients via email, alternative method is to print it and send by mail service.
A19: =IF(ISBLANK(B19),"",INDEX(code,MATCH(B19,product,0))) -> 112233 | B19: Product 2 | H19: 5 | I19: 5 | J19: =H19-I19 -> 0
A20: =IF(ISBLANK(B20),"",INDEX(code,MATCH(B20,product,0))) | J20: =H20-I20 -> 0
A21: =IF(ISBLANK(B21),"",INDEX(code,MATCH(B21,product,0))) | J21: =H21-I21 -> 0
A22: =IF(ISBLANK(B22),"",INDEX(code,MATCH(B22,product,0))) | J22: =H22-I22 -> 0
A23: =IF(ISBLANK(B23),"",INDEX(code,MATCH(B23,product,0))) | J23: =H23-I23 -> 0
A24: =IF(ISBLANK(B24),"",INDEX(code,MATCH(B24,product,0))) | J24: =H24-I24 -> 0
A25: =IF(ISBLANK(B25),"",INDEX(code,MATCH(B25,product,0))) | J25: =H25-I25 -> 0
A26: =IF(ISBLANK(B26),"",INDEX(code,MATCH(B26,product,0))) | J26: =H26-I26 -> 0
A27: =IF(ISBLANK(B27),"",INDEX(code,MATCH(B27,product,0))) | J27: =H27-I27 -> 0
A28: =IF(ISBLANK(B28),"",INDEX(code,MATCH(B28,product,0))) | J28: =H28-I28 -> 0
A29: =IF(ISBLANK(B29),"",INDEX(code,MATCH(B29,product,0))) | J29: =H29-I29 -> 0
A30: =IF(ISBLANK(B30),"",INDEX(code,MATCH(B30,product,0))) | J30: =H30-I30 -> 0
A31: =IF(ISBLANK(B31),"",INDEX(code,MATCH(B31,product,0))) | J31: =H31-I31 -> 0
... A42: =IF(ISBLANK(B42),"",INDEX(code,MATCH(B42,product,0))) | J42: =H42-I42 -> 0
A45: Notice must be given to us of any goods not received within 10 days taken from the date of despatch stated on invoice.
A46: Any Shortage or damage must be notified within 72 hours of receipt of goods.
A47: Complaints can only be accepted if made in writing within 30 days of receipt of goods.
A48: No goods may be returned without prior authorisation from company
A50: Thank you for your business!
A51: ="Should you have any enquiries concerning this delivery note, please contact "&Settings!$B$22&" on "&Settings!$B$23 -> Should you have any enquiries concerning this delivery note, please contact John Doe on 0-000-000-0000
A52: =Settings!$B$10&" "&Settings!$B$11&", "&Settings!$B$12&IF(ISBLANK(Settings!$B$13),", ",", "&Settings!$B$13&", ")&IF(ISBLANK(Settings!$B$14),"",""&Settings!$B$14&", ")&Settings!$B$15 -> 111 Street, Town/City, County, ST, 00000
A53: ="Tel: "&Settings!$B$17&" Fax: "&Settings!$B$18&IF(ISBLANK(Settings!$B$19)," "," E-mail: "&Settings!$B$19)&IF(ISBLANK(Settings!$B$20)," "," Web: "&Settings!$B$20) -> Tel: 0-000-000-0000 Fax: 0-000-000-0000 E-mail: info@yourcompanysite.com Web: www.yourcompanysite.com

Sheet Products List
A1: Price List
A2: Catalog # | B2: Description
A3: 223311 | B3: Product 1
A4: 112233 | B4: Product 2
A5: 331122 | B5: Product 3
A6: 332211 | B6: Product 4
A7: 112233 | B7: Product 5
A8: 113322 | B8: Product 6
A9: 221133 | B9: Product 7
A10: 333333 | B10: Product 8
A11: 222222 | B11: Product 9
A12: 111111 | B12: Product 10
A13: 445566 | B13: Product 11
A14: 554466 | B14: Product 12
... A22: 551133 | B22: Product 20
