Workbook
Name valuevx: 42.314159

Sheet Payslip
A1: Company Name | E1: PAYSLIP
A2: 12345 Court Road, London W1T 1JY, UK
A3: Phone: +44 00 0000 0000, Email: name@provider.com
A5: EMPLOYEE INFORMATION | C5: PAY DATE | D5: PAY TYPE | E5: PERIOD
A6: Full Name | C6: 43626 | D6: Weekly | E6: =INDEX(YearToDate!D5:D33,MATCH($C$6,YearToDate!$A$5:$A$33,0)) -> Wk23 | G6: ← Choose the Pay Date from the drop-down list
A7: 123 Any Court Road | B7: [42] | C7: PAYROLL # | D7: NI NUMBER | E7: TAX CODE
A8: London, W1T 1JY, UK | C8: 1234567 | D8: QQ123456C | E8: 1250L | G8: EACH PAY PERIOD:
A9: Phone: +44 00 0000 0000 | G9: 1) Enter new data in the YearToDate worksheet
A10: Email: name@provider.com | C10: Payment Method: | D10: Check | G10: 2) Choose the new Pay Date in this worksheet
G11: 3) Verify, print, and send with check.
A12: EARNINGS | B12: HOURS | C12: RATE | D12: CURRENT | E12: YTD
A13: =YearToDate!G5 -> Standard Pay | B13: =INDEX(YearToDate!$E$5:$E$33,MATCH($C$6,YearToDate!$A$5:$A$33,0)) -> 40 | C13: =INDEX(YearToDate!$F$5:$F$33,MATCH($C$6,YearToDate!$A$5:$A$33,0)) -> 12.5 | D13: =INDEX(YearToDate!$G$5:$G$33,MATCH($C$6,YearToDate!$A$5:$A$33,0)) -> 500 | E13: =YearToDate!G33 -> 500
A14: =YearToDate!J5 -> Overtime Pay | B14: =INDEX(YearToDate!$H$5:$H$33,MATCH($C$6,YearToDate!$A$5:$A$33,0)) -> 5 | C14: =INDEX(YearToDate!$I$5:$I$33,MATCH($C$6,YearToDate!$A$5:$A$33,0)) -> 18.75 | D14: =INDEX(YearToDate!$J$5:$J$33,MATCH($C$6,YearToDate!$A$5:$A$33,0)) -> 93.75 | E14: =YearToDate!J33 -> 93.75
A15: =YearToDate!M5 -> Holiday Pay | B15: =INDEX(YearToDate!$K$5:$K$33,MATCH($C$6,YearToDate!$A$5:$A$33,0)) -> 8 | C15: =INDEX(YearToDate!$L$5:$L$33,MATCH($C$6,YearToDate!$A$5:$A$33,0)) -> 12.5 | D15: =INDEX(YearToDate!$M$5:$M$33,MATCH($C$6,YearToDate!$A$5:$A$33,0)) -> 100 | E15: =YearToDate!M33 -> 100 | G15: ▼ Unride rows for additional hourly pay options
A16: =YearToDate!P5 -> Vacation Pay | B16: =INDEX(YearToDate!$N$5:$N$33,MATCH($C$6,YearToDate!$A$5:$A$33,0)) -> 0 | C16: =INDEX(YearToDate!$O$5:$O$33,MATCH($C$6,YearToDate!$A$5:$A$33,0)) -> 0 | D16: =INDEX(YearToDate!$P$5:$P$33,MATCH($C$6,YearToDate!$A$5:$A$33,0)) -> 0 | E16: =YearToDate!P33 -> 0
A17: =YearToDate!S5 -> Other Hourly Pay | B17: =INDEX(YearToDate!$O$5:$O$33,MATCH($C$6,YearToDate!$A$5:$A$33,0)) -> 0 | C17: =INDEX(YearToDate!$R$5:$R$33,MATCH($C$6,YearToDate!$A$5:$A$33,0)) -> 0 | D17: =INDEX(YearToDate!$S$5:$S$33,MATCH($C$6,YearToDate!$A$5:$A$33,0)) -> 0 | E17: =YearToDate!S33 -> 0
A18: {=TRANSPOSE(YearToDate!T5:AA5)} -> Basic Pay | D18: =IF(A18=0,"",INDEX(YearToDate!$T$5:$AA$33,MATCH($C$6,YearToDate!$A$5:$A$33,0),MATCH(A18,YearToDate!$T$5:$AA$5,0))) -> 1740 | E18: {=TRANSPOSE(YearToDate!T33:AA33)} -> 1740
A19: Commission and Bonus | D19: =IF(A19=0,"",INDEX(YearToDate!$T$5:$AA$33,MATCH($C$6,YearToDate!$A$5:$A$33,0),MATCH(A19,YearToDate!$T$5:$AA$5,0))) -> 600 | E19: 600
A20: Sick Pay | D20: =IF(A20=0,"",INDEX(YearToDate!$T$5:$AA$33,MATCH($C$6,YearToDate!$A$5:$A$33,0),MATCH(A20,YearToDate!$T$5:$AA$5,0))) -> 0 | E20: 0
A21: Expenses | D21: =IF(A21=0,"",INDEX(YearToDate!$T$5:$AA$33,MATCH($C$6,YearToDate!$A$5:$A$33,0),MATCH(A21,YearToDate!$T$5:$AA$5,0))) -> 0 | E21: 0
A22: 0 | D22: =IF(A22=0,"",INDEX(YearToDate!$T$5:$AA$33,MATCH($C$6,YearToDate!$A$5:$A$33,0),MATCH(A22,YearToDate!$T$5:$AA$5,0))) | E22: 0 | G22: ▼ Unride rows for additional pay options
A23: 0 | D23: =IF(A23=0,"",INDEX(YearToDate!$T$5:$AA$33,MATCH($C$6,YearToDate!$A$5:$A$33,0),MATCH(A23,YearToDate!$T$5:$AA$5,0))) | E23: 0
A24: 0 | D24: =IF(A24=0,"",INDEX(YearToDate!$T$5:$AA$33,MATCH($C$6,YearToDate!$A$5:$A$33,0),MATCH(A24,YearToDate!$T$5:$AA$5,0))) | E24: 0
A25: 0 | D25: =IF(A25=0,"",INDEX(YearToDate!$T$5:$AA$33,MATCH($C$6,YearToDate!$A$5:$A$33,0),MATCH(A25,YearToDate!$T$5:$AA$5,0))) | E25: 0
C26: GROSS PAY | D26: =SUM(D13:D25) -> 3033.75 | E26: =SUM(E13:E25) -> 3033.75
A28: DEDUCTIONS | D28: CURRENT | E28: YTD
A29: {=TRANSPOSE(YearToDate!AB5:AK5)} -> PAYE Tax | D29: =IF(A29=0,"",INDEX(YearToDate!$AB$5:$AK$33,MATCH($C$6,YearToDate!$A$5:$A$33,0),MATCH(A29,YearToDate!$AB$5:$AK$5,0))) -> 250 | E29: {=TRANSPOSE(YearToDate!AB33:AK33)} -> 250
A30: National Insurance | D30: =IF(A30=0,"",INDEX(YearToDate!$AB$5:$AK$33,MATCH($C$6,YearToDate!$A$5:$A$33,0),MATCH(A30,YearToDate!$AB$5:$AK$5,0))) -> 55 | E30: 55
A31: Student Loan Repayment | D31: =IF(A31=0,"",INDEX(YearToDate!$AB$5:$AK$33,MATCH($C$6,YearToDate!$A$5:$A$33,0),MATCH(A31,YearToDate!$AB$5:$AK$5,0))) -> 30 | E31: 30
A32: Pension | D32: =IF(A32=0,"",INDEX(YearToDate!$AB$5:$AK$33,MATCH($C$6,YearToDate!$A$5:$A$33,0),MATCH(A32,YearToDate!$AB$5:$AK$5,0))) -> 50 | E32: 50
A33: Union Fees | D33: =IF(A33=0,"",INDEX(YearToDate!$AB$5:$AK$33,MATCH($C$6,YearToDate!$A$5:$A$33,0),MATCH(A33,YearToDate!$AB$5:$AK$5,0))) -> 5 | E33: 5
A34: 0 | D34: =IF(A34=0,"",INDEX(YearToDate!$AB$5:$AK$33,MATCH($C$6,YearToDate!$A$5:$A$33,0),MATCH(A34,YearToDate!$AB$5:$AK$5,0))) | E34: 0
A35: 0 | D35: =IF(A35=0,"",INDEX(YearToDate!$AB$5:$AK$33,MATCH($C$6,YearToDate!$A$5:$A$33,0),MATCH(A35,YearToDate!$AB$5:$AK$5,0))) | E35: 0 | G35: ▼ Unride rows for additional deduction options
A36: 0 | D36: =IF(A36=0,"",INDEX(YearToDate!$AB$5:$AK$33,MATCH($C$6,YearToDate!$A$5:$A$33,0),MATCH(A36,YearToDate!$AB$5:$AK$5,0))) | E36: 0
A37: 0 | D37: =IF(A37=0,"",INDEX(YearToDate!$AB$5:$AK$33,MATCH($C$6,YearToDate!$A$5:$A$33,0),MATCH(A37,YearToDate!$AB$5:$AK$5,0))) | E37: 0
A38: 0 | D38: =IF(A38=0,"",INDEX(YearToDate!$AB$5:$AK$33,MATCH($C$6,YearToDate!$A$5:$A$33,0),MATCH(A38,YearToDate!$AB$5:$AK$5,0))) | E38: 0
C39: TOTAL DEDUCTIONS | D39: =SUM(D29:D38) -> 390 | E39: =SUM(E29:E38) -> 390
C41: NET PAY | D41: =D26-D39 -> 2643.75 | E41: =E26-E39 -> 2643.75
A43: If you have any questions about this payslip, please contact:
A44: [Name, Phone, email@address.com] | G44: ← Edit contact information, or delete these rows.
...

Sheet YearToDate
A1: Payslip Year-to-Date Calculations
D2: Employee: | E2: [Full Name] | M2: ► | T2: ◄ | X2: ► | AB2: ◄
A4: PAY PERIOD | E4: STANDARD HOURLY PAY | H4: OVERTIME HOURLY PAY | K4: HOLIDAY HOURLY PAY | N4: VACATION HOURLY PAY | Q4: OTHER HOURLY PAY | T4: OTHER EARNINGS | AB4: DEDUCTIONS
A5: PAY DATE | B5: FROM | C5: TO | D5: PERIOD | E5: Standard Hours | F5: Standard Pay Rate | G5: Standard Pay | H5: Overtime Hours | I5: Overtime Pay Rate | J5: Overtime Pay | K5: Holiday Hours | L5: Holiday Pay Rate | M5: Holiday Pay | N5: Vacation Hours | O5: Vacation Pay Rate | P5: Vacation Pay | Q5: Other Hours | R5: Other Pay Rate | S5: Other Hourly Pay | T5: Basic Pay | U5: Commission and Bonus | V5: Sick Pay | W5: Expenses | AB5: PAYE Tax | AC5: National Insurance | AD5: Student Loan Repayment | AE5: Pension | AF5: Union Fees | AM5: ← Customize these labels
A6: 43626 | D6: Wk23 | E6: 40 | F6: 12.5 | G6: =E6*F6 -> 500 | H6: 5 | I6: 18.75 | J6: =H6*I6 -> 93.75 | K6: 8 | L6: 12.5 | M6: =K6*L6 -> 100 | P6: =N6*O6 -> 0 | S6: =Q6*R6 -> 0 | T6: 1740 | U6: 600 | V6: 0 | W6: 0 | AB6: 250 | AC6: 55 | AD6: 30 | AE6: 50 | AF6: 5
G7: =E7*F7 -> 0 | J7: =H7*I7 -> 0 | M7: =K7*L7 -> 0 | P7: =N7*O7 -> 0 | S7: =Q7*R7 -> 0 | AM7: Unhide columns between ► ◄ for more options.
G8: =E8*F8 -> 0 | J8: =H8*I8 -> 0 | M8: =K8*L8 -> 0 | P8: =N8*O8 -> 0 | S8: =Q8*R8 -> 0 | AM8: Hide columns that you are not using.
G9: =E9*F9 -> 0 | J9: =H9*I9 -> 0 | M9: =K9*L9 -> 0 | P9: =N9*O9 -> 0 | S9: =Q9*R9 -> 0
G10: =E10*F10 -> 0 | J10: =H10*I10 -> 0 | M10: =K10*L10 -> 0 | P10: =N10*O10 -> 0 | S10: =Q10*R10 -> 0
G11: =E11*F11 -> 0 | J11: =H11*I11 -> 0 | M11: =K11*L11 -> 0 | P11: =N11*O11 -> 0 | S11: =Q11*R11 -> 0
G12: =E12*F12 -> 0 | J12: =H12*I12 -> 0 | M12: =K12*L12 -> 0 | P12: =N12*O12 -> 0 | S12: =Q12*R12 -> 0
G13: =E13*F13 -> 0 | J13: =H13*I13 -> 0 | M13: =K13*L13 -> 0 | P13: =N13*O13 -> 0 | S13: =Q13*R13 -> 0
G14: =E14*F14 -> 0 | J14: =H14*I14 -> 0 | M14: =K14*L14 -> 0 | P14: =N14*O14 -> 0 | S14: =Q14*R14 -> 0
G15: =E15*F15 -> 0 | J15: =H15*I15 -> 0 | M15: =K15*L15 -> 0 | P15: =N15*O15 -> 0 | S15: =Q15*R15 -> 0
G16: =E16*F16 -> 0 | J16: =H16*I16 -> 0 | M16: =K16*L16 -> 0 | P16: =N16*O16 -> 0 | S16: =Q16*R16 -> 0
G17: =E17*F17 -> 0 | J17: =H17*I17 -> 0 | M17: =K17*L17 -> 0 | P17: =N17*O17 -> 0 | S17: =Q17*R17 -> 0
G18: =E18*F18 -> 0 | J18: =H18*I18 -> 0 | M18: =K18*L18 -> 0 | P18: =N18*O18 -> 0 | S18: =Q18*R18 -> 0
G19: =E19*F19 -> 0 | J19: =H19*I19 -> 0 | M19: =K19*L19 -> 0 | P19: =N19*O19 -> 0 | S19: =Q19*R19 -> 0
G20: =E20*F20 -> 0 | J20: =H20*I20 -> 0 | M20: =K20*L20 -> 0 | P20: =N20*O20 -> 0 | S20: =Q20*R20 -> 0
... G31: =E31*F31 -> 0 | J31: =H31*I31 -> 0 | M31: =K31*L31 -> 0 | P31: =N31*O31 -> 0 | S31: =Q31*R31 -> 0
G32: =E32*F32 -> 0 | J32: =H32*I32 -> 0 | M32: =K32*L32 -> 0 | P32: =N32*O32 -> 0 | S32: =Q32*R32 -> 0 | AM32: ← Insert new rows above this one
A33: Year-To-Date | E33: =SUM(E5:E32) -> 40 | G33: =SUM(G5:G32) -> 500 | H33: =SUM(H5:H32) -> 5 | I33: =SUM(I5:I32) -> 18.75 | J33: =SUM(J5:J32) -> 93.75 | K33: =SUM(K5:K32) -> 8 | L33: =SUM(L5:L32) -> 12.5 | M33: =SUM(M5:M32) -> 100 | N33: =SUM(N5:N32) -> 0 | ... AK33: =SUM(AK5:AK32) -> 0

Sheet Help
A1: HELP
A3: Using This Template
B4: Important: Each country/state/location may have different payslip requirements, so it is highly recommended that you contact an accountant to advise your business on what those laws and requirements are.
A6: Edit Company and Employee Information
B7: Edit the company and employee information in the header and footer.
A9: Payslip Worksheet Protection
B10: To prevent accidental changes to parts of the Payslip that shouldn't be changed, the payslip worksheet has Worksheet Protection turned on. To turn off worksheet protection, go to Review > Unprotect Sheet.
A12: Customize Types of Earnings and Deductions
B13: Edit the column labels in the YearToDate worksheet to customize the types of Earnings and Deductions. If you need more options for different types of earnings and deductions, unhide the hidden rows and columns.
B15: If you need to add rows/columns, you will need to modify the template and update many of the formulas in the worksheet (not a simple task).
B17: The hours, rates, and amounts in the Payslip are updated automatically when you select a new Pay Date at the top of the Payslip worksheet.
A19: Each Pay Period ...
A20: 1) | B20: Enter the date, pay period, hours, and amounts in a new row in the YearToDate worksheet.
A21: 2) | B21: In the Payslip worksheet, select the new date from the drop-down in the Pay Date cell at the top of the Payslip.
A22: 3) | B22: Verify, print, and send the payslip with the check.
A24: Sending a PDF of the Payslip (instead of printing)
B25: One of the easiest ways to send a payslip to an employee electronically is to create a PDF and send it via email. You might do this if you use ACH to do direct deposits instead of mailing checks.
B27: To create a PDF
A28: 1) | B28: Select the Payslip worksheet
A29: 2) | B29: Go to File > Save As and select .pdf as the filetype.
A30: 3) | B30: Email the PDF to the employee.
