Workbook

Sheet Settings
A1: Settings
A3: Company Details
A5: Company Name | B5: My Company name | E5: Enable
A6: Company Slogan (Optional) | B6: My company slogan | E6: Enable
A8: Company Address
A10: Building/House Number | B10: 111
A11: Street | B11: Street
A12: Town/City | B12: Town/City
A13: County/Province | B13: County | D13: (Optional)
A14: State/Province | B14: ST | D14: (Optional)
A15: ZIP/Postal Code | B15: 00000
A17: Tel. | B17: 0-000-000-0000
A18: Fax | B18: 0-000-000-0000
A19: E-mail | B19: info@yourcompanysite.com
A20: Website | B20: www.yourcompanysite.com
A22: Person/Department to contact | B22: John Doe
A23: Contact Tel. Number | B23: 0-000-000-0000
A25: Country Specific Settings
A27: Select Relevant | B27: Sales Tax
A29: Currency Symbol | B29: $
A31: Color Scheme
A33: Design Picker | B33: Blue

Sheet Pro Forma Invoice
A1: =IF(Settings!$E$5="Enable",Settings!$B$5,"") -> My Company name | N1: PRO FORMA INVOICE
A2: =IF(Settings!$E$6="Enable",Settings!$B$6,"") -> My company slogan | O2: =Settings!$B$33 -> Blue
K3: Page: | M3: 1 of | N3: 1
K4: Date: | M4: =TODAY() -> 45737
K5: Date of Expiry: | M5: =TODAY() -> 45737
K6: Invoice #: | M6: [100]
K7: Customer ID: | M7: [ABC12345]
A9: Bill To: | K9: Ship To:
A10: [Name] | K10: [Name]
A11: [Company Name] | K11: [Company Name]
A12: [Street Address] | K12: [Street Address]
A13: [City, ST ZIP Code] | K13: [City, ST ZIP Code]
A14: [Phone] | K14: [Phone]
A16: Shipment Information
A18: P.O. #: | H18: Mode of Transportation:
A19: P.O. Date: | H19: Transportation Terms:
A20: Letter of Credit #: | H20: Number of Packages: | Q20: WAYS OF SENDING AN INVOICE TO A CLIENT
A21: Currency: | H21: Est. Gross Weight: | Q21: Do not send an Excel Invoice file to your clients, use PDF converter/printer to create a PDF file, that can be sent to clients via email, alternative method is to print it and send by mail service.
A22: Payment Terms: | H22: Est. Net Weight:
A23: Est. Ship Date: | H23: Carrier:
A25: Additional Information for Customs
A27: Reason for Export:
A29: Port of Embarkation: | H29: Port of Discharge:
A31: Country of Origin: | H31: AWB/BL #:
A33: Item/Part # | B33: UOM | C33: Description | K33: Unit Price | L33: Qty | M33: =Settings!$B$27 -> Sales Tax | N33: Line Total
A34: 0014 | K34: 5 | L34: 10 | M34: v | N34: =K34*L34 -> 50
A35: 00458 | K35: 10 | L35: 15 | N35: =K35*L35 -> 150
A52: Special Notes, Terms of Sale | J52: Subtotal | M52: =IF(ISBLANK($J52),"",Settings!$B$29) -> $ | N52: =SUM(N34:N50) -> 200 | P52: ← | Q52: Check this formula after adding or deleting rows
J53: ="Subject to "&Settings!$B$27 -> Subject to Sales Tax | M53: =IF(ISBLANK($J53),"",Settings!$B$29) -> $ | N53: =SUMIF(M34:M50,"v",N34:N50) -> 50
J54: =Settings!$B$27&" Rate" -> Sales Tax Rate | M54: 0 | P54: ← | Q54: Enter the tax rate, if applicable
J55: =Settings!$B$27 -> Sales Tax | M55: =IF(ISBLANK($J55),"",Settings!$B$29) -> $ | N55: =N53*M54 -> 0
J56: S & H | M56: =IF(ISBLANK($J56),"",Settings!$B$29) -> $ | N56: 10 | P56: ← | Q56: Enter the cost of Shipping & Handling, if applicable
J57: Insurance | M57: =IF(ISBLANK($J57),"",Settings!$B$29) -> $ | N57: 0 | P57: ← | Q57: Enter the cost of Insurance while in transit, if applicable
J58: [Other] specify | M58: =IF(ISBLANK($J58),"",Settings!$B$29) -> $ | N58: 0 | P58: ← | Q58: Enter any other related cost
J59: [Other] specify | M59: =IF(ISBLANK($J59),"",Settings!$B$29) -> $ | N59: 0 | P59: ← | Q59: Enter any other related cost
J60: [Other] specify | M60: =IF(ISBLANK($J60),"",Settings!$B$29) -> $ | N60: 0 | P60: ← | Q60: Enter any other related cost
J61: Total | M61: =IF(ISBLANK($J61),"",Settings!$B$29) -> $ | N61: =SUM(N52,N55,N56,N57,N58,N59,N60) -> 210
A63: I declare that the information mentioned above is true and correct to the best of my knowledge.
A65: Signature | H65: Date
A68: ="Should you have any enquiries concerning this invoice, please contact "&Settings!$B$22&" on "&Settings!$B$23 -> Should you have any enquiries concerning this invoice, please contact John Doe on 0-000-000-0000
...

Sheet Pro Forma Invoice (Landscape)
A1: =IF(Settings!$E$5="Enable",Settings!$B$5,"") -> My Company name | P1: Pro Forma Invoice
A2: =IF(Settings!$E$6="Enable",Settings!$B$6,"") -> My company slogan | Q2: =Settings!$B$33 -> Blue
A4: Bill To: | E4: Ship To:
A5: [Name] | E5: [Name] | L5: Page: | N5: 1 of | O5: 1
A6: [Company Name] | E6: [Company Name] | L6: Date: | N6: =TODAY() -> 45737
A7: [Street Address] | E7: [Street Address] | L7: Date of Expiry: | N7: =TODAY() -> 45737
A8: [City, ST ZIP Code] | E8: [City, ST ZIP Code] | L8: Invoice #: | N8: [100]
A9: [Phone] | E9: [Phone] | L9: Customer ID: | N9: [ABC12345]
A11: Shipment Information | L11: Additional Information for Customs
A13: P.O. # | F13: Mode of Transportation: | L13: Country of Origin:
A14: P.O. Date | F14: Traansportation Terms: | L14: Port of Embarkation:
A15: Letter of Credit #: | F15: Number of Packages: | L15: Port of Discharge:
A16: Currency: | F16: Est. Gross Weight: | L16: AWB/BL #:
A17: Payment Terms: | F17: Est Net Weight: | L17: Reason for Export:
A18: Est. Ship Date: | F18: Carrier:
A20: Item/Part # | B20: UOM | C20: Description | M20: Unit Price | N20: Qty | O20: =Settings!$B$27 -> Sales Tax | P20: Line Total
M21: 5 | N21: 50 | O21: v | P21: =M21*N21 -> 250 | S21: WAYS OF SENDING AN INVOICE TO A CLIENT
M22: 35 | N22: 10 | O22: v | P22: =M22*N22 -> 350 | S22: Do not send an Excel Invoice file to your clients, use PDF converter/printer to create a PDF file, that can be sent to clients via email, alternative method is to print it and send by mail service.
P23: =M23*N23 -> 0
P24: =M24*N24 -> 0
P25: =M25*N25 -> 0
P26: =M26*N26 -> 0
P27: =M27*N27 -> 0
P28: =M28*N28 -> 0
P29: =M29*N29 -> 0
P30: =M30*N30 -> 0
P31: =M31*N31 -> 0
P32: =M32*N32 -> 0
P33: =M33*N33 -> 0
P34: =M34*N34 -> 0
... P36: =M36*N36 -> 0
A38: Special Notes and Instructions | M38: Subtotal | O38: =IF(ISBLANK($M38),"",Settings!$B$29) -> $ | P38: =SUM(P21:P36) -> 600 | R38: ← | S38: Check this formula after adding or deleting rows
M39: ="Subject to "&Settings!$B$27 -> Subject to Sales Tax | O39: =IF(ISBLANK($M39),"",Settings!$B$29) -> $ | P39: =SUMIF(O21:O36,"v",P21:P36) -> 600
M40: =Settings!$B$27&" Rate" -> Sales Tax Rate | O40: 0.1 | R40: ← | S40: Enter the tax rate, if applicable
M41: =Settings!$B$27 -> Sales Tax | O41: =IF(ISBLANK($M41),"",Settings!$B$29) -> $ | P41: =P39*O40 -> 60
M42: Shipping & Handling | O42: =IF(ISBLANK($M42),"",Settings!$B$29) -> $ | P42: 0 | R42: ← | S42: Enter the cost of Shipping & Handling, if applicable
M43: Insurance | O43: =IF(ISBLANK($M43),"",Settings!$B$29) -> $ | P43: 0 | R43: ← | S43: Enter the cost of Insurance while in transit, if applicable
M44: [Other] specify | O44: =IF(ISBLANK($M44),"",Settings!$B$29) -> $ | P44: 0 | R44: ← | S44: Enter any other related cost
A45: I declare that the information mentioned above is true and correct to the best of my knowledge. | M45: [Other] specify | O45: =IF(ISBLANK($M45),"",Settings!$B$29) -> $ | P45: 0 | R45: ← | S45: Enter any other related cost
M46: [Other] specify | O46: =IF(ISBLANK($M46),"",Settings!$B$29) -> $ | P46: 0 | R46: ← | S46: Enter any other related cost
...

Sheet Pro Forma Invoice (Letterhead)
O2: =Settings!$B$33 -> Blue
A11: PRO FORMA INVOICE
A13: Bill To: | F13: Ship To: | K13: Page: | M13: 1 of | N13: 1
A14: [Name] | F14: [Name] | K14: Date: | M14: =TODAY() -> 45737
A15: [Company Name] | F15: [Company Name] | K15: Date of Expiry: | M15: =TODAY() -> 45737
A16: [Street Address] | F16: [Street Address] | K16: Invoice #: | M16: [100]
A17: [City, ST ZIP Code] | F17: [City, ST ZIP Code] | K17: Customer ID: | M17: [ABC12345]
A18: [Phone] | F18: [Phone]
A20: Shipment Information | Q20: WAYS OF SENDING AN INVOICE TO A CLIENT
Q21: Do not send an Excel Invoice file to your clients, use PDF converter/printer to create a PDF file, that can be sent to clients via email, alternative method is to print it and send by mail service.
A22: P.O. #: | H22: Mode of Transportation:
A23: P.O. Date: | H23: Transportation Terms:
A24: Letter of Credit #: | H24: Number of Packages:
A25: Currency: | H25: Est. Gross Weight:
A26: Payment Terms: | H26: Est Net Weight:
A27: Est. Ship Date: | H27: Carrier:
A29: Additional Information for Customs
A31: Reason for Export:
A33: Port of Embarkation: | H33: Port of Discharge:
A35: Country of Origin: | H35: AWB/BL #:
A37: Item/Part # | B37: UOM | C37: Description | K37: Unit Price | L37: Qty | M37: =Settings!$B$27 -> Sales Tax | N37: Line Total
A38: 0014 | K38: 5 | L38: 10 | M38: v | N38: =K38*L38 -> 50
A39: 00458 | K39: 10 | L39: 15 | N39: =K39*L39 -> 150
A56: Special Notes, Terms of Sale | J56: Subtotal | M56: =IF(ISBLANK($J56),"",Settings!$B$29) -> $ | N56: =SUM(N38:N54) -> 200 | P56: ← | Q56: Check this formula after adding or deleting rows
J57: ="Subject to "&Settings!$B$27 -> Subject to Sales Tax | M57: =IF(ISBLANK($J57),"",Settings!$B$29) -> $ | N57: =SUMIF(M38:M54,"v",N38:N54) -> 50
J58: =Settings!$B$27&" Rate" -> Sales Tax Rate | M58: 0.1 | P58: ← | Q58: Enter the tax rate, if applicable
J59: =Settings!$B$27 -> Sales Tax | M59: =IF(ISBLANK($J59),"",Settings!$B$29) -> $ | N59: =N57*M58 -> 5
J60: S & H | M60: =IF(ISBLANK($J60),"",Settings!$B$29) -> $ | N60: 10 | P60: ← | Q60: Enter the cost of Shipping & Handling, if applicable
J61: Insurance | M61: =IF(ISBLANK($J61),"",Settings!$B$29) -> $ | N61: 0 | P61: ← | Q61: Enter the cost of Insurance while in transit, if applicable
J62: [Other] specify | M62: =IF(ISBLANK($J62),"",Settings!$B$29) -> $ | N62: 0 | P62: ← | Q62: Enter any other related cost
J63: [Other] specify | M63: =IF(ISBLANK($J63),"",Settings!$B$29) -> $ | N63: 0 | P63: ← | Q63: Enter any other related cost
J64: [Other] specify | M64: =IF(ISBLANK($J64),"",Settings!$B$29) -> $ | N64: 0 | P64: ← | Q64: Enter any other related cost
J65: Total | M65: =IF(ISBLANK($J65),"",Settings!$B$29) -> $ | N65: =SUM(N56,N59,N60,N61,N62,N63,N64) -> 215
A67: I declare that the information mentioned above is true and correct to the best of my knowledge.
A69: Signature | I69: Date
