Workbook

Sheet Settings
A1: Settings
A3: Company Details
A5: Company Name | B5: My Company name | E5: Enable
A6: Company Slogan (Optional) | B6: My company slogan | E6: Enable
A8: Company Address
A10: Building/House Number | B10: 111
A11: Street | B11: Street
A12: Town/City | B12: Town/City
A13: County/Province | B13: County | D13: (Optional)
A14: State/Province | B14: ST | D14: (Optional)
A15: ZIP/Postal Code | B15: 00000
A17: Tel. | B17: 0-000-000-0000
A18: Fax | B18: 0-000-000-0000
A19: E-mail | B19: info@yourcompanysite.com
A20: Website | B20: www.yourcompanysite.com
A22: Person/Department to contact | B22: John Doe
A23: Contact Tel. Number | B23: 0-000-000-0000
A25: Country Specific Settings
A27: Select Relevant | B27: Sales Tax
A29: Currency Symbol | B29: $
A31: Color Scheme
A33: Design Picker | B33: Blue

Sheet Sales Invoice 1
A1: =IF(Settings!$E$5="Enable",Settings!$B$5,"") -> My Company name | L1: Invoice
A2: =IF(Settings!$E$6="Enable",Settings!$B$6,"") -> My company slogan | M2: =Settings!$B$33 -> Blue
I4: Date: | K4: =TODAY() -> 45738
I5: Invoice #: | K5: INV-00000
I6: Customer ID: | K6: [ABC12345]
I7: Purchase Order # | K7: 12345678
I8: Payment Due by: | K8: =K4+30 -> 45768
A10: Bill To: | I10: Ship To (If Different):
A11: [Name] | I11: [Name]
A12: [Company Name] | I12: [Company Name]
A13: [Street Address] | I13: [Street Address]
A14: [City, ST ZIP Code] | I14: [City, ST ZIP Code]
A15: [Phone] | I15: [Phone]
A17: Salesperson | C17: Shipping Method | E17: Shipping Terms | G17: Payment Terms | I17: Due Date | K17: Delivery Date | O17: WAYS OF SENDING AN INVOICE TO A CLIENT
A18: [Name] | O18: Do not send an Excel Invoice file to your clients, use PDF converter/printer to create a PDF file, that can be sent to clients via email, alternative method is to print it and send by mail service.
A20: Item # | B20: Description | I20: Qty | J20: Unit Price | K20: Line Total
A21: 112233 | I21: 2 | J21: 35 | K21: =IF(OR(ISBLANK(I21),I21=0),0,I21*J21) -> 70
A22: 445566 | I22: 1 | J22: 35 | K22: =IF(OR(ISBLANK(I22),I22=0),0,I22*J22) -> 35
K23: =IF(OR(ISBLANK(I23),I23=0),0,I23*J23) -> 0
K24: =IF(OR(ISBLANK(I24),I24=0),0,I24*J24) -> 0
K25: =IF(OR(ISBLANK(I25),I25=0),0,I25*J25) -> 0
K26: =IF(OR(ISBLANK(I26),I26=0),0,I26*J26) -> 0
K27: =IF(OR(ISBLANK(I27),I27=0),0,I27*J27) -> 0
K28: =IF(OR(ISBLANK(I28),I28=0),0,I28*J28) -> 0
K29: =IF(OR(ISBLANK(I29),I29=0),0,I29*J29) -> 0
K30: =IF(OR(ISBLANK(I30),I30=0),0,I30*J30) -> 0
K31: =IF(OR(ISBLANK(I31),I31=0),0,I31*J31) -> 0
K32: =IF(OR(ISBLANK(I32),I32=0),0,I32*J32) -> 0
K33: =IF(OR(ISBLANK(I33),I33=0),0,I33*J33) -> 0
K34: =IF(OR(ISBLANK(I34),I34=0),0,I34*J34) -> 0
A36: Special Notes and Instructions | J36: Subtotal | K36: =IF(ISBLANK($J36),"",Settings!$B$29) -> $ | L36: =SUM($K$21:$K$34) -> 105 | N36: ← | O36: Check this formula after adding or deleting rows
J37: =Settings!$B$27&" Rate" -> Sales Tax Rate | K37: 0 | N37: ← | O37: Enter the tax rate, if applicable
J38: =Settings!$B$27 -> Sales Tax | K38: =IF(ISBLANK($J38),"",Settings!$B$29) -> $ | L38: =$K$37*$L$36 -> 0
J39: S&H | K39: =IF(ISBLANK($J39),"",Settings!$B$29) -> $ | L39: 0 | N39: ← | O39: Enter the cost of Shipping & Handling, if applicable
J40: Discount | K40: =IF(ISBLANK($J40),"",Settings!$B$29) -> $ | L40: 0 | N40: ← | O40: Enter the amount of Discount, if applicable
J41: Total | K41: =IF(ISBLANK($J41),"",Settings!$B$29) -> $ | L41: =SUM($L$36-$L$40,$L$38,$L$39) -> 105
A43: ="Make all checks payable to "&Settings!$B$5 -> Make all checks payable to My Company name
A45: Thank you for your business!
A47: ="Should you have any enquiries concerning this invoice, please contact "&Settings!$B$22&" on "&Settings!$B$23 -> Should you have any enquiries concerning this invoice, please contact John Doe on 0-000-000-0000
A49: =Settings!$B$10&" "&Settings!$B$11&", "&Settings!$B$12&IF(ISBLANK(Settings!$B$13),", ",", "&Settings!$B$13&", ")&IF(ISBLANK(Settings!$B$14),"",""&Settings!$B$14&", ")&Settings!$B$15 -> 111 Street, Town/City, County, ST, 00000
...

Sheet Sales Invoice 2
A1: =IF(Settings!$E$5="Enable",Settings!$B$5,"") -> My Company name | L1: Invoice
A2: =IF(Settings!$E$6="Enable",Settings!$B$6,"") -> My company slogan | M2: =Settings!$B$33 -> Blue
I4: Date: | K4: =TODAY() -> 45738
I5: Invoice #: | K5: INV-00000
I6: Customer ID: | K6: [ABC12345]
I7: Purchase Order # | K7: 12345678
I8: Payment Due by: | K8: =K4+30 -> 45768
A10: Bill To: | I10: Ship To (If Different):
A11: [Name] | I11: [Name]
A12: [Company Name] | I12: [Company Name]
A13: [Street Address] | I13: [Street Address]
A14: [City, ST ZIP Code] | I14: [City, ST ZIP Code]
A15: [Phone] | I15: [Phone]
A17: Salesperson | C17: Shipping Method | E17: Shipping Terms | G17: Payment Terms | I17: Due Date | K17: Delivery Date | O17: WAYS OF SENDING AN INVOICE TO A CLIENT
A18: [Name] | O18: Do not send an Excel Invoice file to your clients, use PDF converter/printer to create a PDF file, that can be sent to clients via email, alternative method is to print it and send by mail service.
A20: Item # | B20: Description | I20: Qty | J20: Unit Price | K20: Line Total
A21: 112233 | I21: 2 | J21: 35 | K21: =IF(OR(ISBLANK(I21),I21=0),0,I21*J21) -> 70
A22: 445566 | I22: 1 | J22: 35 | K22: =IF(OR(ISBLANK(I22),I22=0),0,I22*J22) -> 35
K23: =IF(OR(ISBLANK(I23),I23=0),0,I23*J23) -> 0
K24: =IF(OR(ISBLANK(I24),I24=0),0,I24*J24) -> 0
K25: =IF(OR(ISBLANK(I25),I25=0),0,I25*J25) -> 0
K26: =IF(OR(ISBLANK(I26),I26=0),0,I26*J26) -> 0
K27: =IF(OR(ISBLANK(I27),I27=0),0,I27*J27) -> 0
K28: =IF(OR(ISBLANK(I28),I28=0),0,I28*J28) -> 0
K29: =IF(OR(ISBLANK(I29),I29=0),0,I29*J29) -> 0
K30: =IF(OR(ISBLANK(I30),I30=0),0,I30*J30) -> 0
K31: =IF(OR(ISBLANK(I31),I31=0),0,I31*J31) -> 0
K32: =IF(OR(ISBLANK(I32),I32=0),0,I32*J32) -> 0
K33: =IF(OR(ISBLANK(I33),I33=0),0,I33*J33) -> 0
K34: =IF(OR(ISBLANK(I34),I34=0),0,I34*J34) -> 0
A36: Special Notes and Instructions | J36: Subtotal | K36: =IF(ISBLANK($J36),"",Settings!$B$29) -> $ | L36: =SUM($K$21:$K$34) -> 105 | N36: ← | O36: Check this formula after adding or deleting rows
J37: =Settings!$B$27&" Rate" -> Sales Tax Rate | K37: 0 | N37: ← | O37: Enter the tax rate, if applicable
J38: =Settings!$B$27 -> Sales Tax | K38: =IF(ISBLANK($J38),"",Settings!$B$29) -> $ | L38: =$K$37*$L$36 -> 0
J39: S&H | K39: =IF(ISBLANK($J39),"",Settings!$B$29) -> $ | L39: 0 | N39: ← | O39: Enter the cost of Shipping & Handling, if applicable
J40: Discount | K40: =IF(ISBLANK($J40),"",Settings!$B$29) -> $ | L40: 0 | N40: ← | O40: Enter the amount of Discount, if applicable
J41: Total | K41: =IF(ISBLANK($J41),"",Settings!$B$29) -> $ | L41: =SUM($L$36-$L$40,$L$38,$L$39) -> 105
A43: ="Make all checks payable to "&Settings!$B$5 -> Make all checks payable to My Company name
A45: Thank you for your business!
A47: ="Should you have any enquiries concerning this invoice, please contact "&Settings!$B$22&" on "&Settings!$B$23 -> Should you have any enquiries concerning this invoice, please contact John Doe on 0-000-000-0000
A49: =Settings!$B$10&" "&Settings!$B$11&", "&Settings!$B$12&IF(ISBLANK(Settings!$B$13),", ",", "&Settings!$B$13&", ")&IF(ISBLANK(Settings!$B$14),"",""&Settings!$B$14&", ")&Settings!$B$15 -> 111 Street, Town/City, County, ST, 00000
...

Sheet Sales Invoice (Landscape) 1
A1: =IF(Settings!$E$5="Enable",Settings!$B$5,"") -> My Company name | R1: Invoice
A2: =IF(Settings!$E$6="Enable",Settings!$B$6,"") -> My company slogan | S2: =Settings!$B$33 -> Blue
A8: Bill To: | F8: Ship To (If Different): | K8: Salesperson | M8: [Name] | O8: Date: | Q8: =TODAY() -> 45738
A9: [Name] | F9: [Name] | K9: Shipping Method | O9: Invoice #: | Q9: INV-00000
A10: [Company Name] | F10: [Company Name] | K10: Shipping Terms | O10: Customer ID: | Q10: [ABC12345]
A11: [Street Address] | F11: [Street Address] | K11: Payment Terms | O11: Purchase Order # | Q11: 12345678
A12: [City, ST ZIP Code] | F12: [City, ST ZIP Code] | K12: Due Date | O12: Payment Due by: | Q12: =Q8+30 -> 45768
A13: [Phone] | F13: [Phone] | K13: Delivery Date
A15: Item # | B15: Description | O15: Qty | P15: Unit Price | Q15: Line Total
A16: 112233 | O16: 1 | P16: 15 | Q16: =IF(OR(ISBLANK(O16),O16=0),0,O16*P16) -> 15 | U16: WAYS OF SENDING AN INVOICE TO A CLIENT
A17: 445566 | O17: 25 | P17: 35 | Q17: =IF(OR(ISBLANK(O17),O17=0),0,O17*P17) -> 875
Q18: =IF(OR(ISBLANK(O18),O18=0),0,O18*P18) -> 0 | U18: Do not send an Excel Invoice file to your clients, use PDF converter/printer to create a PDF file, that can be sent to clients via email, alternative method is to print it and send by mail service.
Q19: =IF(OR(ISBLANK(O19),O19=0),0,O19*P19) -> 0
Q20: =IF(OR(ISBLANK(O20),O20=0),0,O20*P20) -> 0
Q21: =IF(OR(ISBLANK(O21),O21=0),0,O21*P21) -> 0
Q22: =IF(OR(ISBLANK(O22),O22=0),0,O22*P22) -> 0
Q23: =IF(OR(ISBLANK(O23),O23=0),0,O23*P23) -> 0
Q24: =IF(OR(ISBLANK(O24),O24=0),0,O24*P24) -> 0
Q25: =IF(OR(ISBLANK(O25),O25=0),0,O25*P25) -> 0
Q26: =IF(OR(ISBLANK(O26),O26=0),0,O26*P26) -> 0
Q27: =IF(OR(ISBLANK(O27),O27=0),0,O27*P27) -> 0
Q28: =IF(OR(ISBLANK(O28),O28=0),0,O28*P28) -> 0
Q29: =IF(OR(ISBLANK(O29),O29=0),0,O29*P29) -> 0
Q30: =IF(OR(ISBLANK(O30),O30=0),0,O30*P30) -> 0
... Q33: =IF(OR(ISBLANK(O33),O33=0),0,O33*P33) -> 0
A35: Special Notes and Instructions | P35: Subtotal | Q35: =IF(ISBLANK($P35),"",Settings!$B$29) -> $ | R35: =SUM($Q$16:$Q$33) -> 890 | T35: ← | U35: Check this formula after adding or deleting rows
P36: =Settings!$B$27&" Rate" -> Sales Tax Rate | Q36: 0 | T36: ← | U36: Enter the tax rate, if applicable
P37: =Settings!$B$27 -> Sales Tax | Q37: =IF(ISBLANK($P37),"",Settings!$B$29) -> $ | R37: =$R$35*$Q$36 -> 0
P38: S&H | Q38: =IF(ISBLANK($P38),"",Settings!$B$29) -> $ | R38: 0 | T38: ← | U38: Enter the cost of Shipping & Handling, if applicable
P39: Discount | Q39: =IF(ISBLANK($P39),"",Settings!$B$29) -> $ | R39: 0 | T39: ← | U39: Enter the amount of Discount, if applicable
P40: Total | Q40: =IF(ISBLANK($P40),"",Settings!$B$29) -> $ | R40: =SUM($R$35-$R$39,$R$37,$R$38) -> 890
P41: Make all checks payable to:
A42: Thank you for your business! | P42: =Settings!$B$5 -> My Company name
A43: ="Should you have any enquiries concerning this invoice, please contact "&Settings!$B$22&" on "&Settings!$B$23 -> Should you have any enquiries concerning this invoice, please contact John Doe on 0-000-000-0000
A44: =Settings!$B$10&" "&Settings!$B$11&", "&Settings!$B$12&IF(ISBLANK(Settings!$B$13),", ",", "&Settings!$B$13&", ")&IF(ISBLANK(Settings!$B$14),"",""&Settings!$B$14&", ")&Settings!$B$15 -> 111 Street, Town/City, County, ST, 00000
A45: ="Tel: "&Settings!$B$17&" Fax: "&Settings!$B$18&IF(ISBLANK(Settings!$B$19)," "," E-mail: "&Settings!$B$19)&IF(ISBLANK(Settings!$B$20)," "," Web: "&Settings!$B$20) -> Tel: 0-000-000-0000 Fax: 0-000-000-0000 E-mail: info@yourcompanysite.com Web: www.yourcompanysite.com

Sheet Sales Invoice (Landscape) 2
A1: =IF(Settings!$E$5="Enable",Settings!$B$5,"") -> My Company name | R1: Invoice
A2: =IF(Settings!$E$6="Enable",Settings!$B$6,"") -> My company slogan | S2: =Settings!$B$33 -> Blue
A8: Bill To: | F8: Ship To (If Different): | K8: Salesperson | M8: [Name] | O8: Date: | Q8: =TODAY() -> 45738
A9: [Name] | F9: [Name] | K9: Shipping Method | O9: Invoice #: | Q9: INV-00000
A10: [Company Name] | F10: [Company Name] | K10: Shipping Terms | O10: Customer ID: | Q10: [ABC12345]
A11: [Street Address] | F11: [Street Address] | K11: Payment Terms | O11: Purchase Order # | Q11: 12345678
A12: [City, ST ZIP Code] | F12: [City, ST ZIP Code] | K12: Due Date | O12: Payment Due by: | Q12: =Q8+30 -> 45768
A13: [Phone] | F13: [Phone] | K13: Delivery Date
A15: Item # | B15: Description | O15: Qty | P15: Unit Price | Q15: Line Total
A16: 112233 | O16: 1 | P16: 15 | Q16: =IF(OR(ISBLANK(O16),O16=0),0,O16*P16) -> 15 | U16: WAYS OF SENDING AN INVOICE TO A CLIENT
A17: 445566 | O17: 25 | P17: 35 | Q17: =IF(OR(ISBLANK(O17),O17=0),0,O17*P17) -> 875
Q18: =IF(OR(ISBLANK(O18),O18=0),0,O18*P18) -> 0 | U18: Do not send an Excel Invoice file to your clients, use PDF converter/printer to create a PDF file, that can be sent to clients via email, alternative method is to print it and send by mail service.
Q19: =IF(OR(ISBLANK(O19),O19=0),0,O19*P19) -> 0
Q20: =IF(OR(ISBLANK(O20),O20=0),0,O20*P20) -> 0
Q21: =IF(OR(ISBLANK(O21),O21=0),0,O21*P21) -> 0
Q22: =IF(OR(ISBLANK(O22),O22=0),0,O22*P22) -> 0
Q23: =IF(OR(ISBLANK(O23),O23=0),0,O23*P23) -> 0
Q24: =IF(OR(ISBLANK(O24),O24=0),0,O24*P24) -> 0
Q25: =IF(OR(ISBLANK(O25),O25=0),0,O25*P25) -> 0
Q26: =IF(OR(ISBLANK(O26),O26=0),0,O26*P26) -> 0
Q27: =IF(OR(ISBLANK(O27),O27=0),0,O27*P27) -> 0
Q28: =IF(OR(ISBLANK(O28),O28=0),0,O28*P28) -> 0
Q29: =IF(OR(ISBLANK(O29),O29=0),0,O29*P29) -> 0
Q30: =IF(OR(ISBLANK(O30),O30=0),0,O30*P30) -> 0
... Q33: =IF(OR(ISBLANK(O33),O33=0),0,O33*P33) -> 0
A35: Special Notes and Instructions | P35: Subtotal | Q35: =IF(ISBLANK($P35),"",Settings!$B$29) -> $ | R35: =SUM($Q$16:$Q$33) -> 890 | T35: ← | U35: Check this formula after adding or deleting rows
P36: =Settings!$B$27&" Rate" -> Sales Tax Rate | Q36: 0 | T36: ← | U36: Enter the tax rate, if applicable
P37: =Settings!$B$27 -> Sales Tax | Q37: =IF(ISBLANK($P37),"",Settings!$B$29) -> $ | R37: =$R$35*$Q$36 -> 0
P38: S&H | Q38: =IF(ISBLANK($P38),"",Settings!$B$29) -> $ | R38: 0 | T38: ← | U38: Enter the cost of Shipping & Handling, if applicable
P39: Discount | Q39: =IF(ISBLANK($P39),"",Settings!$B$29) -> $ | R39: 0 | T39: ← | U39: Enter the amount of Discount, if applicable
P40: Total | Q40: =IF(ISBLANK($P40),"",Settings!$B$29) -> $ | R40: =SUM($R$35-$R$39,$R$37,$R$38) -> 890
P41: Make all checks payable to:
A42: Thank you for your business! | P42: =Settings!$B$5 -> My Company name
A43: ="Should you have any enquiries concerning this invoice, please contact "&Settings!$B$22&" on "&Settings!$B$23 -> Should you have any enquiries concerning this invoice, please contact John Doe on 0-000-000-0000
A44: =Settings!$B$10&" "&Settings!$B$11&", "&Settings!$B$12&IF(ISBLANK(Settings!$B$13),", ",", "&Settings!$B$13&", ")&IF(ISBLANK(Settings!$B$14),"",""&Settings!$B$14&", ")&Settings!$B$15 -> 111 Street, Town/City, County, ST, 00000
A45: ="Tel: "&Settings!$B$17&" Fax: "&Settings!$B$18&IF(ISBLANK(Settings!$B$19)," "," E-mail: "&Settings!$B$19)&IF(ISBLANK(Settings!$B$20)," "," Web: "&Settings!$B$20) -> Tel: 0-000-000-0000 Fax: 0-000-000-0000 E-mail: info@yourcompanysite.com Web: www.yourcompanysite.com
