Workbook
Name numbers: {"";"One";"Two";"Three";"Four";"Five";"Six";"Seven";"Eight";"Nine";"Ten";"Eleven";"Twelve";"Thirteen";"Fourteen";"Fifteen";"Sixteen";"Seventeen";"Eighteen";"Nineteen"}
Name tens: {"";"";"Twenty";"Thirty";"Forty";"Fifty";"Sixty";"Seventy";"Eighty";"Ninety"}

Sheet Settings
A1: Settings
A3: Company Details
A5: Company Name | B5: My Company name | E5: Enable
A6: Company Slogan (Optional) | B6: My company slogan | E6: Enable
A8: Company Address
A10: Building/House Number | B10: 111
A11: Street | B11: Street
A12: Town/City | B12: Town/City
A13: County/Province | B13: County | D13: (Optional)
A14: State/Province | B14: ST | D14: (Optional)
A15: ZIP/Postal Code | B15: 00000
A17: Tel. | B17: 0-000-000-0000
A18: Fax | B18: 0-000-000-0000
A19: E-mail | B19: info@yourcompanysite.com
A20: Website | B20: www.yourcompanysite.com
A22: Person/Department to contact | B22: John Doe
A23: Contact Tel. Number | B23: 0-000-000-0000
A25: Country Specific Settings
A27: Select Relevant | B27: Sales Tax
A29: Currency Symbol | B29: $
A31: Color Scheme
A33: Design Picker | B33: Blue

Sheet Sales Receipt
A1: =IF(Settings!$E$5="Enable",Settings!$B$5,"") -> My Company name | G1: Sales Receipt
A2: =IF(Settings!$E$6="Enable",Settings!$B$6,"") -> My company slogan | K2: =Settings!$B$33 -> Blue
G3: Date | H3: =TODAY() -> 45738
G4: Receipt #
A6: Name: | B6: [Name of the person or a company]
A7: Address: | B7: [Address]
B8: [Address]
A10: Code | B10: Description | G10: Qty | H10: Price | I10: Amount
A11: 12345 | B11: Product 1 | G11: 10 | H11: 10 | I11: =IF(ISBLANK(B11),"",G11*H11) -> 100
A12: 54321 | B12: Product 2 | G12: 20 | H12: 15 | I12: =IF(ISBLANK(B12),"",G12*H12) -> 300
I13: =IF(ISBLANK(B13),"",G13*H13)
I14: =IF(ISBLANK(B14),"",G14*H14)
I15: =IF(ISBLANK(B15),"",G15*H15)
I16: =IF(ISBLANK(B16),"",G16*H16)
I17: =IF(ISBLANK(B17),"",G17*H17)
I18: =IF(ISBLANK(B18),"",G18*H18) | M18: WAYS OF SENDING AN INVOICE TO A CLIENT
I19: =IF(ISBLANK(B19),"",G19*H19) | M19: Do not send an Excel Sales Receipt file to your clients, use PDF converter/printer to create a PDF file, that can be sent to clients via email, alternative method is to print it and send by mail service.
I20: =IF(ISBLANK(B20),"",G20*H20)
I21: =IF(ISBLANK(B21),"",G21*H21)
I22: =IF(ISBLANK(B22),"",G22*H22)
I23: =IF(ISBLANK(B23),"",G23*H23)
I24: =IF(ISBLANK(B24),"",G24*H24)
I25: =IF(ISBLANK(B25),"",G25*H25)
I26: =IF(ISBLANK(B26),"",G26*H26)
I27: =IF(ISBLANK(B27),"",G27*H27)
I28: =IF(ISBLANK(B28),"",G28*H28)
I29: =IF(ISBLANK(B29),"",G29*H29)
I30: =IF(ISBLANK(B30),"",G30*H30)
G32: Subtotal | I32: =IF($J32=0,"",Settings!$B$29) -> $ | J32: =SUM(I11:I30) -> 400
A33: Sale made by: | C33: Maria Carter | G33: Discount | I33: =IF($J33=0,"",Settings!$B$29) | J33: 0
G34: =Settings!$B$27&" Rate" -> Sales Tax Rate | I34: 0.1
G35: =Settings!$B$27 -> Sales Tax | I35: =IF($J35=0,"",Settings!$B$29) -> $ | J35: =(J32-J33)*I34 -> 40
G36: Total | I36: =IF($J36=0,"",Settings!$B$29) -> $ | J36: =J32-J33+J35 -> 440
G38: Cash | I38: x
A39: =IF(ISBLANK(I39),"",G39&" No.") -> Credit Card No. | G39: Credit Card | I39: x
A40: =IF(ISBLANK(I40),"",G40&" No.") -> Check No. | G40: Check | I40: x
A41: =IF(ISBLANK(I41),"",G41&" No.") -> Money Order No. | G41: Money Order | I41: x
A43: =IF(OR(J36>1000000,J36<0),"",IF(J36<1000,"",IF(MOD(J36,1000000)>=100000,INDEX(numbers,TRUNC(MOD(J36,1000000)/100000,0)+1)&" Hundred","")&IF(MOD(J36,100000)>=20000," "&INDEX(tens,TRUNC(MOD(J36,100000)/10000,0)+1)&IF(MOD(MOD(J36,100000),10000)>1000,"-"&INDEX(numbers,TRUNC(MOD(MOD(J36,100000),10000)/1000,0)+1),""),IF(MOD(J36,100000)>=1000," "&INDEX(numbers,TRUNC(MOD(J36,100000)/1000,0)+1),""))&" Thousand") & IF(J36<1,"Zero ",IF(MOD(J36,1000)>=100," "&INDEX(numbers,TRUNC(MOD(J36,1000)/100,0)+1)&" Hundred","")&IF(MOD(J36,100)>=20," "&INDEX(tens,TRUNC(MOD(J36,100)/10,0)+1)&IF(MOD(MOD(J36,100),10)>1,"-"&INDEX(numbers,TRUNC(MOD(MOD(J36,100),10),0)+1),""),IF(MOD(J36,100)>=1," "&INDEX(numbers,TRUNC(MOD(J36,100),0)+1),""))&"")& " and " & IF(MOD(J36,1)<0.01,"NO",ROUND(MOD(J36,1)*100,0))) -> Four Hundred Forty and NO
A45: Thanks for your business!
A47: ="Should you have any enquiries concerning this receipt, please contact "&Settings!$B$22&" on "&Settings!$B$23 -> Should you have any enquiries concerning this receipt, please contact John Doe on 0-000-000-0000
...

Sheet Printable Sales Receipt
A1: =IF(Settings!$E$5="Enable",Settings!$B$5,"") -> My Company name | H1: Sales Receipt | M1: =IF(Settings!$E$5="Enable",Settings!$B$5,"") -> My Company name | T1: Sales Receipt
A2: =IF(Settings!$E$6="Enable",Settings!$B$6,"") -> My company slogan | M2: =IF(Settings!$E$6="Enable",Settings!$B$6,"") -> My company slogan | W2: Blue
G3: Date: | S3: Date:
G4: Receipt No. | S4: Receipt No.
A6: Name: | M6: Name:
A7: Address: | M7: Address:
A10: Code | B10: Description | H10: Quantity | I10: Price | J10: Amount | M10: Code | N10: Description | T10: Quantity | U10: Price | V10: Amount
Y18: WAYS OF SENDING AN INVOICE TO A CLIENT
Y19: Do not send an Excel Sales Receipt file to your clients, use PDF converter/printer to create a PDF file, that can be sent to clients via email, alternative method is to print it and send by mail service.
H35: Subtotal | J35: =IF(SUM(J11:J34)>0,SUM(J11:J34),"") | T35: Subtotal
A36: Sale made by: | H36: Discount | M36: Sale made by: | O36: =IF(ISBLANK(C36),"",C36) | T36: Discount
H37: =Settings!$B$27&" Rate" -> Sales Tax Rate | T37: =Settings!$B$27&" Rate" -> Sales Tax Rate
H38: =Settings!$B$27 -> Sales Tax | J38: =IF(SUM(J11:J34)>0,(J35-J36)*J37,"") | T38: =Settings!$B$27 -> Sales Tax
H39: Total | J39: =IF(SUM(J11:J34)>0,J35-J36+J38,"") | T39: Total
H43: Cash | S43: =IF(ISBLANK(G43),"",G43) | T43: Cash
A44: =IF(G44,"",H44&" No.") -> Credit Card No. | H44: Credit Card | M44: =A44 -> Credit Card No. | T44: Credit Card
A45: =IF(G45,"",H45&" No.") -> Check No. | H45: Check | M45: =A45 -> Check No. | S45: =IF(ISBLANK(G45),"",G45) | T45: Check
A46: =IF(G46,"",H46&" No.") -> Money Order No. | H46: Money Order | M46: =A46 -> Money Order No. | S46: =IF(ISBLANK(G46),"",G46) | T46: Money Order
A49: Thanks for your business! | M49: Thanks for your business!
A50: ="Should you have any enquiries concerning this receipt, please contact "&Settings!$B$22&" on "&Settings!$B$23 -> Should you have any enquiries concerning this receipt, please contact John Doe on 0-000-000-0000 | M50: ="Should you have any enquiries concerning this receipt, please contact "&Settings!$B$22&" on "&Settings!$B$23 -> Should you have any enquiries concerning this receipt, please contact John Doe on 0-000-000-0000
A51: =Settings!$B$10&" "&Settings!$B$11&", "&Settings!$B$12&IF(ISBLANK(Settings!$B$13),", ",", "&Settings!$B$13&", ")&IF(ISBLANK(Settings!$B$14),"",""&Settings!$B$14&", ")&Settings!$B$15 -> 111 Street, Town/City, County, ST, 00000 | M51: =Settings!$B$10&" "&Settings!$B$11&", "&Settings!$B$12&IF(ISBLANK(Settings!$B$13),", ",", "&Settings!$B$13&", ")&IF(ISBLANK(Settings!$B$14),"",""&Settings!$B$14&", ")&Settings!$B$15 -> 111 Street, Town/City, County, ST, 00000
A52: ="Tel: "&Settings!$B$17&" Fax: "&Settings!$B$18&IF(ISBLANK(Settings!$B$19)," "," E-mail: "&Settings!$B$19)&IF(ISBLANK(Settings!$B$20)," "," Web: "&Settings!$B$20) -> Tel: 0-000-000-0000 Fax: 0-000-000-0000 E-mail: info@yourcompanysite.com Web: www.yourcompanysite.com | M52: ="Tel: "&Settings!$B$17&" Fax: "&Settings!$B$18&IF(ISBLANK(Settings!$B$19)," "," E-mail: "&Settings!$B$19)&IF(ISBLANK(Settings!$B$20)," "," Web: "&Settings!$B$20) -> Tel: 0-000-000-0000 Fax: 0-000-000-0000 E-mail: info@yourcompanysite.com Web: www.yourcompanysite.com
