Workbook
Name abs: Settings!$B$17
Name day: {"Sunday","Monday"}
Name month: INDEX({1,2,3,4,5,6,7,8,9,10,11,12},MATCH('Rotation Schedule'!$AT$20,month_n,0))
Name month_n: {"January";"February";"March";"April";"May";"June";"July";"August";"September";"October";"November";"December"}
Name ph: Settings!$B$18
Name si: Settings!$B$19
Name start_day: INDEX({1,2},MATCH(Settings!$B$10,day,0))
Name vac: Settings!$B$16
Name wd: Settings!$B$14
Name we: Settings!$B$15
Name year: 'Rotation Schedule'!$AT$18

Sheet Settings
A1: Settings
A3: Company Details
A5: Company Name | B5: My Company name | F5: Enable
A6: Company Slogan (Optional) | B6: My company slogan | F6: Enable
A8: First Day of Week
A10: Week Begins On | B10: Sunday
A12: Template Specific Settings
A14: Work Day | B14: x
A15: Weekend (Day Off) | B15: w
A16: Vacation | B16: v
A17: Absence | B17: a
A18: Public Holiday | B18: p
A19: Sick | B19: s

Sheet Rotation Schedule
A1: =IF(Settings!$F$5="Enable",Settings!$B$5,"") -> My Company name | AQ1: Staff Rotation Schedule
A2: =IF(Settings!$F$6="Enable",Settings!$B$6,"") -> My company slogan
AA4: from | AC4: =EOMONTH(B6-1,0)+1 -> 41518 | AJ4: to | AL4: =EOMONTH(B6,0) -> 41547
B6: =DATE(year,month,1) -> 41518
A8: NAME | B8: =IF(start_day=1,"S","M") -> S | C8: =IF(start_day=1,"M","T") -> M | D8: =IF(start_day=1,"T","W") -> T | E8: =IF(start_day=1,"W","T") -> W | F8: =IF(start_day=1,"T","F") -> T | G8: =IF(start_day=1,"F","S") -> F | H8: =IF(start_day=1,"S","S") -> S | I8: =IF(start_day=1,"S","M") -> S | J8: =IF(start_day=1,"M","T") -> M | K8: =IF(start_day=1,"T","W") -> T | L8: =IF(start_day=1,"W","T") -> W | M8: =IF(start_day=1,"T","F") -> T | N8: =IF(start_day=1,"F","S") -> F | O8: =IF(start_day=1,"S","S") -> S | P8: =IF(start_day=1,"S","M") -> S | Q8: =IF(start_day=1,"M","T") -> M | R8: =IF(start_day=1,"T","W") -> T | S8: =IF(start_day=1,"W","T") -> W | T8: =IF(start_day=1,"T","F") -> T | U8: =IF(start_day=1,"F","S") -> F | V8: =IF(start_day=1,"S","S") -> S | W8: =IF(start_day=1,"S","M") -> S | X8: =IF(start_day=1,"M","T") -> M | Y8: =IF(start_day=1,"T","W") -> T | Z8: =IF(start_day=1,"W","T") -> W | AA8: =IF(start_day=1,"T","F") -> T | AB8: =IF(start_day=1,"F","S") -> F | AC8: =IF(start_day=1,"S","S") -> S | AD8: =IF(start_day=1,"S","M") -> S | AE8: =IF(start_day=1,"M","T") -> M | AF8: =IF(start_day=1,"T","W") -> T | AG8: =IF(start_day=1,"W","T") -> W | AH8: =IF(start_day=1,"T","F") -> T | AI8: =IF(start_day=1,"F","S") -> F | AJ8: =IF(start_day=1,"S","S") -> S | AK8: =IF(start_day=1,"S","M") -> S | AL8: =IF(start_day=1,"M","T") -> M | AM8: =IF(start_day=1,"T","W") -> T | AN8: =IF(start_day=1,"W","T") -> W | AO8: =IF(start_day=1,"T","F") -> T | AP8: =IF(start_day=1,"F","S") -> F | AQ8: =IF(start_day=1,"S","S") -> S
B9: =IF(MONTH($B$6)<>MONTH($B$6-WEEKDAY($B$6,start_day)+(COLUMN(B9)-COLUMN($B$9)+1)),"",$B$6-WEEKDAY($B$6,start_day)+(COLUMN(B9)-COLUMN($B$9)+1)) -> 41518 | C9: =IF(MONTH($B$6)<>MONTH($B$6-WEEKDAY($B$6,start_day)+(COLUMN(C9)-COLUMN($B$9)+1)),"",$B$6-WEEKDAY($B$6,start_day)+(COLUMN(C9)-COLUMN($B$9)+1)) -> 41519 | D9: =IF(MONTH($B$6)<>MONTH($B$6-WEEKDAY($B$6,start_day)+(COLUMN(D9)-COLUMN($B$9)+1)),"",$B$6-WEEKDAY($B$6,start_day)+(COLUMN(D9)-COLUMN($B$9)+1)) -> 41520 | E9: =IF(MONTH($B$6)<>MONTH($B$6-WEEKDAY($B$6,start_day)+(COLUMN(E9)-COLUMN($B$9)+1)),"",$B$6-WEEKDAY($B$6,start_day)+(COLUMN(E9)-COLUMN($B$9)+1)) -> 41521 | F9: =IF(MONTH($B$6)<>MONTH($B$6-WEEKDAY($B$6,start_day)+(COLUMN(F9)-COLUMN($B$9)+1)),"",$B$6-WEEKDAY($B$6,start_day)+(COLUMN(F9)-COLUMN($B$9)+1)) -> 41522 | G9: =IF(MONTH($B$6)<>MONTH($B$6-WEEKDAY($B$6,start_day)+(COLUMN(G9)-COLUMN($B$9)+1)),"",$B$6-WEEKDAY($B$6,start_day)+(COLUMN(G9)-COLUMN($B$9)+1)) -> 41523 | H9: =IF(MONTH($B$6)<>MONTH($B$6-WEEKDAY($B$6,start_day)+(COLUMN(H9)-COLUMN($B$9)+1)),"",$B$6-WEEKDAY($B$6,start_day)+(COLUMN(H9)-COLUMN($B$9)+1)) -> 41524 | I9: =IF(MONTH($B$6)<>MONTH($B$6-WEEKDAY($B$6,start_day)+(COLUMN(I9)-COLUMN($B$9)+1)),"",$B$6-WEEKDAY($B$6,start_day)+(COLUMN(I9)-COLUMN($B$9)+1)) -> 41525 | ... AQ9: =IF(MONTH($B$6)<>MONTH($B$6-WEEKDAY($B$6,start_day)+(COLUMN(AQ9)-COLUMN($B$9)+1)),"",$B$6-WEEKDAY($B$6,start_day)+(COLUMN(AQ9)-COLUMN($B$9)+1))
A10: D Brown | B10: w | C10: x | D10: x | E10: x | F10: x | G10: x | H10: w | I10: w | J10: x | K10: x | L10: x | M10: x | N10: x | O10: w | P10: w | Q10: x | R10: a | S10: a | T10: a | U10: a | V10: w | W10: w | X10: v | Y10: v | Z10: v | AA10: v | AB10: v | AC10: w | AD10: w | AE10: v | AF10: v | AG10: v | AH10: v | AI10: x | AJ10: x | AK10: x
A11: J Sacramento | B11: w | C11: v | D11: v | E11: v | F11: v | G11: v | H11: w | I11: w | J11: v | K11: v | L11: v | M11: v | N11: v | O11: w | P11: w | Q11: x | R11: x | S11: x | T11: x | U11: x | V11: w | W11: w | X11: x | Y11: x | Z11: x | AA11: x | AB11: x | AC11: w | AD11: w | AE11: x
A12: J Bolanos | B12: w | C12: x | D12: x | E12: x | F12: x | G12: x | H12: w | I12: w | J12: x | K12: x | L12: x | M12: x | N12: x | O12: w | P12: w | Q12: x | R12: x | S12: x | T12: x | U12: x | V12: w | W12: w | X12: x | Y12: x | Z12: x | AA12: x | AB12: x | AC12: w | AD12: w | AE12: x
A13: N Bejani | B13: w | C13: x | D13: x | E13: x | F13: x | G13: x | H13: w | I13: w | J13: x | K13: x | L13: x | M13: x | N13: x | O13: w | P13: w | Q13: v | R13: v | S13: v | T13: v | U13: v | V13: w | W13: w | X13: x | Y13: x | Z13: x | AA13: x | AB13: x | AC13: w | AD13: w | AE13: x
AS18: Year | AT18: 2013
AS20: Month | AT20: September
D44: =Settings!A14 -> Work Day | K44: =Settings!A15 -> Weekend (Day Off) | S44: =Settings!A16 -> Vacation | X44: =Settings!A17 -> Absence | AC44: =Settings!A18 -> Public Holiday | AJ44: =Settings!A19 -> Sick
